BEGIN:VCALENDAR
PRODID:-//Tendenci - The Open Source AMS for Associations//Tendenci Codebase 12 MIMEDIR//EN
VERSION:2.0
METHOD:PUBLISH
BEGIN:VEVENT
DTSTAMP:20260421T203823Z
ORGANIZER:
DTSTART:20221104T043000Z
DTEND:20221104T063000Z
LOCATION:
TRANSP:OPAQUE
SEQUENCE:0
UID:uid1040@portal.momsforliberty.org
DESCRIPTION:--- This iCal file does *NOT* confirm registration.\r\nEvent details subject to change. ---\r\nhttps://portal.momsforliberty.org/events/1040/\r\n\r\nEvent Title: Orange County Chapter Meeting\r\nStart Date / Time: Nov 03, 2022 23:30 PM US/Central\r\nLocation: \r\nGoogle\r\nhttp://maps.google.com/maps?q=234+Orange+Grove+St.,Hillsborough,NC,27278\r\n\r\nForecast\nhttp://www.weather.com/weather/monthly/27278\r\n\r\nCoordinate action with Orange County residence to address issues around parents rights and education in both Orange County school districts.--- This iCal file does *NOT* confirm registration.Event details subject to change. ---\r\n\r\n--- By Tendenci - The Open Source AMS for Associations ---\r\n
X-ALT-DESC;FMTTYPE=text/html:<div>--- This iCal file does *NOT* confirm registration.Event details subject to change. ---</div><h1>Event Title: Orange County Chapter Meeting</h1><div>https://portal.momsforliberty.org/events/1040/</div><br /><div>When: Nov 03, 2022 23:30 PM US/Central</div><br /><br />234 Orange Grove St.<br />Hillsborough, NC 27278<br /><div>http://maps.google.com/maps?q=234+Orange+Grove+St.,Hillsborough,NC,27278</div><br /><div>Forecast: http://www.weather.com/weather/monthly/27278</div><br /><br /><div><p>Coordinate action with Orange County residence to address issues around parents rights and education in both Orange County school districts.</p></div><div>--- This iCal file does *NOT* confirm registration.Event details subject to change. ---</div><div>--- Tendenci&reg\; Software by <a href="https://www.tendenci.com">tendenci.com</a> - The Open Source AMS for Associations ---</div>
SUMMARY:Orange County Chapter Meeting
PRIORITY:5
CLASS:PUBLIC
BEGIN:VALARM
TRIGGER:-PT30M
ACTION:DISPLAY
DESCRIPTION:Reminder
END:VALARM
END:VEVENT
END:VCALENDAR
