BEGIN:VCALENDAR
PRODID:-//Tendenci - The Open Source AMS for Associations//Tendenci Codebase 12 MIMEDIR//EN
VERSION:2.0
METHOD:PUBLISH
BEGIN:VEVENT
DTSTAMP:20260423T200153Z
ORGANIZER:
DTSTART:20221102T043000Z
DTEND:20221102T063000Z
LOCATION:
TRANSP:OPAQUE
SEQUENCE:0
UID:uid1043@portal.momsforliberty.org
DESCRIPTION:--- This iCal file does *NOT* confirm registration.\r\nEvent details subject to change. ---\r\nhttps://portal.momsforliberty.org/events/1043/\r\n\r\nEvent Title: Forsyth County Board of Education Meeting\r\nStart Date / Time: Nov 01, 2022 23:30 PM US/Central\r\nLocation: \r\nGoogle\r\nhttp://maps.google.com/maps?q=4801+Bethania+Station+Road,Winston Salem,NC\r\n\r\nForecast\nhttp://www.weather.com/weather/monthly/\r\n\r\nRegular monthly board of education meeting\r\nThe link to access the November 1 board meeting agenda is provided below. It is typically available several days prior to the meeting. \r\nhttps://simbli.eboardsolutions.com/SB_Meetings/SB_MeetingListing.aspx?S=36030885\r\nIf you cannot attend the meeting in person, you can aslo stream it live here:\r\nhttps://wsfcstv.viebit.com/index.php?folder=Board+of+Education+Meetings\r\n \r\n --- This iCal file does *NOT* confirm registration.Event details subject to change. ---\r\n\r\n--- By Tendenci - The Open Source AMS for Associations ---\r\n
X-ALT-DESC;FMTTYPE=text/html:<div>--- This iCal file does *NOT* confirm registration.Event details subject to change. ---</div><h1>Event Title: Forsyth County Board of Education Meeting</h1><div>https://portal.momsforliberty.org/events/1043/</div><br /><div>When: Nov 01, 2022 23:30 PM US/Central</div><br /><br />4801 Bethania Station Road<br />Winston Salem, NC<br /><div>http://maps.google.com/maps?q=4801+Bethania+Station+Road,Winston Salem,NC</div><br /><div>Forecast: http://www.weather.com/weather/monthly/</div><br /><br /><div><p>Regular monthly board of education meeting</p>
<p>The link to access the November 1 board meeting agenda is provided below. It is typically available several days prior to the meeting.&nbsp\;</p>
<p><a href="https://simbli.eboardsolutions.com/SB_Meetings/SB_MeetingListing.aspx?S=36030885">https://simbli.eboardsolutions.com/SB_Meetings/SB_MeetingListing.aspx?S=36030885</a></p>
<p>If you cannot attend the meeting in person, you can aslo stream it live here:</p>
<p><a href="https://wsfcstv.viebit.com/index.php?folder=Board+of+Education+Meetings">https://wsfcstv.viebit.com/index.php?folder=Board+of+Education+Meetings</a></p>
<p>&nbsp\;</p>
<p>&nbsp\;</p></div><div>--- This iCal file does *NOT* confirm registration.Event details subject to change. ---</div><div>--- Tendenci&reg\; Software by <a href="https://www.tendenci.com">tendenci.com</a> - The Open Source AMS for Associations ---</div>
SUMMARY:Forsyth County Board of Education Meeting
PRIORITY:5
CLASS:PUBLIC
BEGIN:VALARM
TRIGGER:-PT30M
ACTION:DISPLAY
DESCRIPTION:Reminder
END:VALARM
END:VEVENT
END:VCALENDAR
