BEGIN:VCALENDAR
PRODID:-//Tendenci - The Open Source AMS for Associations//Tendenci Codebase 12 MIMEDIR//EN
VERSION:2.0
METHOD:PUBLISH
BEGIN:VEVENT
DTSTAMP:20260425T170638Z
ORGANIZER:Moms for Liberty Baltimore County
DTSTART:20221111T050000Z
DTEND:20221111T080000Z
LOCATION:Ocean Pride
TRANSP:OPAQUE
SEQUENCE:0
UID:uid1055@portal.momsforliberty.org
DESCRIPTION:--- This iCal file does *NOT* confirm registration.\r\nEvent details subject to change. ---\r\nhttps://portal.momsforliberty.org/events/1055/\r\n\r\nEvent Title: Moms for Liberty Baltimore County November Meeting\r\nStart Date / Time: Nov 11, 2022 00:00 AM US/Eastern\r\nLocation: Ocean Pride\r\nSpeaker: Alex Fahmy\r\nGoogle\r\nhttp://maps.google.com/maps?q=1534+York+Road,Lutherville,MD,21093\r\n\r\nForecast\nhttp://www.weather.com/weather/monthly/21093\r\n\r\nJoin us on November 10, 2022 at Ocean Pride in Timonium!\r\nOur guest speaker will be Alex Fahmy!\r\nWe will also be discussing our holiday party, volunteer opportunities, and 2023 meetings.\r\nDoors open at 6pm. Food and drink will be available for purchase. We&rsquo\;ll get our meeting started at 7.--- This iCal file does *NOT* confirm registration.Event details subject to change. ---\r\n\r\n--- By Tendenci - The Open Source AMS for Associations ---\r\n
X-ALT-DESC;FMTTYPE=text/html:<div>--- This iCal file does *NOT* confirm registration.Event details subject to change. ---</div><h1>Event Title: Moms for Liberty Baltimore County November Meeting</h1><div>https://portal.momsforliberty.org/events/1055/</div><br /><div>When: Nov 11, 2022 00:00 AM US/Eastern</div><div>Speaker: Alex Fahmy</div><br />Ocean Pride<br />1534 York Road<br />Lutherville, MD 21093<br /><div>http://maps.google.com/maps?q=1534+York+Road,Lutherville,MD,21093</div><br /><div>Forecast: http://www.weather.com/weather/monthly/21093</div><br /><br /><div><div class="xdj266r x11i5rnm xat24cr x1mh8g0r x1vvkbs">Join us on November 10, 2022 at Ocean Pride in Timonium!</div>
<div class="x11i5rnm xat24cr x1mh8g0r x1vvkbs xtlvy1s">Our guest speaker will be Alex Fahmy!</div>
<div class="x11i5rnm xat24cr x1mh8g0r x1vvkbs xtlvy1s">We will also be discussing our holiday party, volunteer opportunities, and 2023 meetings.</div>
<div class="x11i5rnm xat24cr x1mh8g0r x1vvkbs xtlvy1s">Doors open at 6pm. Food and drink will be available for purchase. We&rsquo\;ll get our meeting started at 7.</div></div><div>--- This iCal file does *NOT* confirm registration.Event details subject to change. ---</div><div>--- Tendenci&reg\; Software by <a href="https://www.tendenci.com">tendenci.com</a> - The Open Source AMS for Associations ---</div>
SUMMARY:Moms for Liberty Baltimore County November Meeting
PRIORITY:5
CLASS:PUBLIC
BEGIN:VALARM
TRIGGER:-PT30M
ACTION:DISPLAY
DESCRIPTION:Reminder
END:VALARM
END:VEVENT
END:VCALENDAR
