BEGIN:VCALENDAR
PRODID:-//Tendenci - The Open Source AMS for Associations//Tendenci Codebase 12 MIMEDIR//EN
VERSION:2.0
METHOD:PUBLISH
BEGIN:VEVENT
DTSTAMP:20260421T003010Z
ORGANIZER:
DTSTART:20221117T070000Z
DTEND:20221117T110000Z
LOCATION:
TRANSP:OPAQUE
SEQUENCE:0
UID:uid1073@portal.momsforliberty.org
DESCRIPTION:--- This iCal file does *NOT* confirm registration.\r\nEvent details subject to change. ---\r\nhttps://portal.momsforliberty.org/events/1073/\r\n\r\nEvent Title: St Vrain Valley School Board Meeting\r\nStart Date / Time: Nov 17, 2022 00:00 AM America/Denver\r\nLocation: \r\nGoogle\r\nhttp://maps.google.com/maps?q=395+S+Pratt+Parkway,Longmont,CO,80501\r\n\r\nForecast\nhttp://www.weather.com/weather/monthly/80501\r\n\r\nSignup for public comment can be done 30 minutes prior to the meeting in the board room or follow this link prior to the meeting https://docs.google.com/.../1FAIpQLSfQiaY8XLYl8z.../viewform\r\nAgendas and livestream video can be found at https://www.svvsd.org/.../boa.../2022-board-meeting-archive/--- This iCal file does *NOT* confirm registration.Event details subject to change. ---\r\n\r\n--- By Tendenci - The Open Source AMS for Associations ---\r\n
X-ALT-DESC;FMTTYPE=text/html:<div>--- This iCal file does *NOT* confirm registration.Event details subject to change. ---</div><h1>Event Title: St Vrain Valley School Board Meeting</h1><div>https://portal.momsforliberty.org/events/1073/</div><br /><div>When: Nov 17, 2022 00:00 AM America/Denver</div><br /><br />395 S Pratt Parkway<br />Longmont, CO 80501<br /><div>http://maps.google.com/maps?q=395+S+Pratt+Parkway,Longmont,CO,80501</div><br /><div>Forecast: http://www.weather.com/weather/monthly/80501</div><br /><br /><div><div class="x11i5rnm xat24cr x1mh8g0r x1vvkbs xdj266r">Signup for public comment can be done 30 minutes prior to the meeting in the board room or follow this link prior to the meeting&nbsp\;<a class="x1i10hfl xjbqb8w x6umtig x1b1mbwd xaqea5y xav7gou x9f619 x1ypdohk xt0psk2 xe8uvvx xdj266r x11i5rnm xat24cr x1mh8g0r xexx8yu x4uap5 x18d9i69 xkhd6sd x16tdsg8 x1hl2dhg xggy1nq x1a2a7pz xt0b8zv x1fey0fg" tabindex="0" role="link" href="https://docs.google.com/forms/d/e/1FAIpQLSfQiaY8XLYl8zdnJUAOk4mNBryQznxaxqwMZiUWW8QqSVGr5Q/viewform?fbclid=IwAR0hQxzIvqNfzMIhijRRuSOucCUxhjjiYSNRN8-KQ5P30ltIS5o231cioj4" target="_blank" rel="nofollow noopener">https://docs.google.com/.../1FAIpQLSfQiaY8XLYl8z.../viewform</a></div>
<div class="x11i5rnm xat24cr x1mh8g0r x1vvkbs xtlvy1s">Agendas and livestream video can be found at&nbsp\;<a class="x1i10hfl xjbqb8w x6umtig x1b1mbwd xaqea5y xav7gou x9f619 x1ypdohk xt0psk2 xe8uvvx xdj266r x11i5rnm xat24cr x1mh8g0r xexx8yu x4uap5 x18d9i69 xkhd6sd x16tdsg8 x1hl2dhg xggy1nq x1a2a7pz xt0b8zv x1fey0fg" tabindex="0" role="link" href="https://www.svvsd.org/about/board-of-education/board-meetings/2022-board-meeting-archive/?fbclid=IwAR0hQxzIvqNfzMIhijRRuSOucCUxhjjiYSNRN8-KQ5P30ltIS5o231cioj4" target="_blank" rel="nofollow noopener">https://www.svvsd.org/.../boa.../2022-board-meeting-archive/</a></div></div><div>--- This iCal file does *NOT* confirm registration.Event details subject to change. ---</div><div>--- Tendenci&reg\; Software by <a href="https://www.tendenci.com">tendenci.com</a> - The Open Source AMS for Associations ---</div>
SUMMARY:St Vrain Valley School Board Meeting
PRIORITY:5
CLASS:PUBLIC
BEGIN:VALARM
TRIGGER:-PT30M
ACTION:DISPLAY
DESCRIPTION:Reminder
END:VALARM
END:VEVENT
END:VCALENDAR
