BEGIN:VCALENDAR
PRODID:-//Tendenci - The Open Source AMS for Associations//Tendenci Codebase 12 MIMEDIR//EN
VERSION:2.0
METHOD:PUBLISH
BEGIN:VEVENT
DTSTAMP:20260421T074758Z
ORGANIZER:
DTSTART:20221201T053000Z
DTEND:20221201T073000Z
LOCATION:Rafael's Steak & Seafood - Westminster
TRANSP:OPAQUE
SEQUENCE:0
UID:uid1085@portal.momsforliberty.org
DESCRIPTION:--- This iCal file does *NOT* confirm registration.\r\nEvent details subject to change. ---\r\nhttps://portal.momsforliberty.org/events/1085/\r\n\r\nEvent Title: November Chapter Meeting\r\nStart Date / Time: Dec 01, 2022 00:30 AM America/New_York\r\nLocation: Rafael's Steak & Seafood - Westminster\r\nSpeaker: Edward Bartlett\r\nPlease join us to learn about the changes made to Title IX and how they will affect our daughters!--- This iCal file does *NOT* confirm registration.Event details subject to change. ---\r\n\r\n--- By Tendenci - The Open Source AMS for Associations ---\r\n
X-ALT-DESC;FMTTYPE=text/html:<div>--- This iCal file does *NOT* confirm registration.Event details subject to change. ---</div><h1>Event Title: November Chapter Meeting</h1><div>https://portal.momsforliberty.org/events/1085/</div><br /><div>When: Dec 01, 2022 00:30 AM America/New_York</div><div>Speaker: Edward Bartlett</div><br /><div><p>Please join us to learn about the changes made to Title IX and how they will affect our daughters!</p></div><div>--- This iCal file does *NOT* confirm registration.Event details subject to change. ---</div><div>--- Tendenci&reg\; Software by <a href="https://www.tendenci.com">tendenci.com</a> - The Open Source AMS for Associations ---</div>
SUMMARY:November Chapter Meeting
PRIORITY:5
CLASS:PUBLIC
BEGIN:VALARM
TRIGGER:-PT30M
ACTION:DISPLAY
DESCRIPTION:Reminder
END:VALARM
END:VEVENT
END:VCALENDAR
