BEGIN:VCALENDAR
PRODID:-//Tendenci - The Open Source AMS for Associations//Tendenci Codebase 12 MIMEDIR//EN
VERSION:2.0
METHOD:PUBLISH
BEGIN:VEVENT
DTSTAMP:20260421T112348Z
ORGANIZER:
DTSTART:20221127T030000Z
DTEND:20221127T050000Z
LOCATION:Downtown Westminster
TRANSP:OPAQUE
SEQUENCE:0
UID:uid1086@portal.momsforliberty.org
DESCRIPTION:--- This iCal file does *NOT* confirm registration.\r\nEvent details subject to change. ---\r\nhttps://portal.momsforliberty.org/events/1086/\r\n\r\nEvent Title: Miracle on Main St Parade\r\nStart Date / Time: Nov 26, 2022 22:00 PM America/New_York\r\nLocation: Downtown Westminster\r\nPlease join us to walk in this amazing electric parade! We will have a float - contact Kit to help.\r\nSign up to walk here: https://www.signupgenius.com/go/10c0845abac2cabf49-miracle--- This iCal file does *NOT* confirm registration.Event details subject to change. ---\r\n\r\n--- By Tendenci - The Open Source AMS for Associations ---\r\n
X-ALT-DESC;FMTTYPE=text/html:<div>--- This iCal file does *NOT* confirm registration.Event details subject to change. ---</div><h1>Event Title: Miracle on Main St Parade</h1><div>https://portal.momsforliberty.org/events/1086/</div><br /><div>When: Nov 26, 2022 22:00 PM America/New_York</div><br /><div><p>Please join us to walk in this amazing electric parade! We will have a float - contact Kit to help.</p>
<p>Sign up to walk here:&nbsp\;https://www.signupgenius.com/go/10c0845abac2cabf49-miracle</p></div><div>--- This iCal file does *NOT* confirm registration.Event details subject to change. ---</div><div>--- Tendenci&reg\; Software by <a href="https://www.tendenci.com">tendenci.com</a> - The Open Source AMS for Associations ---</div>
SUMMARY:Miracle on Main St Parade
PRIORITY:5
CLASS:PUBLIC
BEGIN:VALARM
TRIGGER:-PT30M
ACTION:DISPLAY
DESCRIPTION:Reminder
END:VALARM
END:VEVENT
END:VCALENDAR
