BEGIN:VCALENDAR
PRODID:-//Tendenci - The Open Source AMS for Associations//Tendenci Codebase 12 MIMEDIR//EN
VERSION:2.0
METHOD:PUBLISH
BEGIN:VEVENT
DTSTAMP:20260426T061758Z
ORGANIZER:
DTSTART:20221217T060000Z
DTEND:20221217T090000Z
LOCATION:Stratosphere Social
TRANSP:OPAQUE
SEQUENCE:0
UID:uid1087@portal.momsforliberty.org
DESCRIPTION:--- This iCal file does *NOT* confirm registration.\r\nEvent details subject to change. ---\r\nhttps://portal.momsforliberty.org/events/1087/\r\n\r\nEvent Title: Christmas party!\r\nStart Date / Time: Dec 17, 2022 00:00 AM US/Central\r\nLocation: Stratosphere Social\r\nIt's the Most Wonderful\r\nTime of the Year!\r\nPlease join us for our 2022 Moms for Liberty - Carroll County Holiday Party!------------------------------------------------\r\nEvent Overview:\r\n\r\n\r\nDate: Friday December 16, 2022 | 6:00pm\r\n\r\n\r\nVenue: Stratosphere Social - Lounge Area\r\n\r\n\r\nDress Code: Holiday Casual \;)\r\n\r\n\r\nCost for Attendance: $25 per person\r\n\r\n--- This iCal file does *NOT* confirm registration.Event details subject to change. ---\r\n\r\n--- By Tendenci - The Open Source AMS for Associations ---\r\n
X-ALT-DESC;FMTTYPE=text/html:<div>--- This iCal file does *NOT* confirm registration.Event details subject to change. ---</div><h1>Event Title: Christmas party!</h1><div>https://portal.momsforliberty.org/events/1087/</div><br /><div>When: Dec 17, 2022 00:00 AM US/Central</div><br /><div><p data-pm-slice="1 3 []">It's the Most Wonderful</p>
<p>Time of the Year!</p>
<p>Please join us for our 2022 Moms for Liberty - Carroll County Holiday Party!<br />------------------------------------------------</p>
<p><strong><u>Event Overview:</u></strong></p>
<ul>
<li>
<p><strong>Date</strong>: Friday December 16, 2022 | 6:00pm</p>
</li>
<li>
<p><strong>Venue</strong>: Stratosphere Social - <em>Lounge Area</em></p>
</li>
<li>
<p><strong>Dress Code</strong>: Holiday Casual \;)</p>
</li>
<li>
<p><strong>Cost for Attendance</strong>: $25 per person</p>
</li>
</ul></div><div>--- This iCal file does *NOT* confirm registration.Event details subject to change. ---</div><div>--- Tendenci&reg\; Software by <a href="https://www.tendenci.com">tendenci.com</a> - The Open Source AMS for Associations ---</div>
SUMMARY:Christmas party!
PRIORITY:5
CLASS:PUBLIC
BEGIN:VALARM
TRIGGER:-PT30M
ACTION:DISPLAY
DESCRIPTION:Reminder
END:VALARM
END:VEVENT
END:VCALENDAR
