BEGIN:VCALENDAR
PRODID:-//Tendenci - The Open Source AMS for Associations//Tendenci Codebase 12 MIMEDIR//EN
VERSION:2.0
METHOD:PUBLISH
BEGIN:VEVENT
DTSTAMP:20260420T013052Z
ORGANIZER:
DTSTART:20221215T060000Z
DTEND:20221215T090000Z
LOCATION:Hobcaw Yacht Club
TRANSP:OPAQUE
SEQUENCE:0
UID:uid1089@portal.momsforliberty.org
DESCRIPTION:--- This iCal file does *NOT* confirm registration.\r\nEvent details subject to change. ---\r\nhttps://portal.momsforliberty.org/events/1089/\r\n\r\nEvent Title: M4L Charleston Christmas Party\r\nStart Date / Time: Dec 15, 2022 00:00 AM US/Central\r\nLocation: Hobcaw Yacht Club\r\nGoogle\r\nhttp://maps.google.com/maps?q=180+Hobcaw+Drive,Mt Pleasant,SC,29464\r\n\r\nForecast\nhttp://www.weather.com/weather/monthly/29464\r\n\r\nLet's CELEBRATE our BIG WIN and Christmas!!\r\nWine, Beer and Bites\r\n$25 per person\r\nPay via credit card online or pay at the door with cash, check or card.--- This iCal file does *NOT* confirm registration.Event details subject to change. ---\r\n\r\n--- By Tendenci - The Open Source AMS for Associations ---\r\n
X-ALT-DESC;FMTTYPE=text/html:<div>--- This iCal file does *NOT* confirm registration.Event details subject to change. ---</div><h1>Event Title: M4L Charleston Christmas Party</h1><div>https://portal.momsforliberty.org/events/1089/</div><br /><div>When: Dec 15, 2022 00:00 AM US/Central</div><br />Hobcaw Yacht Club<br />180 Hobcaw Drive<br />Mt Pleasant, SC 29464<br /><div>http://maps.google.com/maps?q=180+Hobcaw+Drive,Mt Pleasant,SC,29464</div><br /><div>Forecast: http://www.weather.com/weather/monthly/29464</div><br /><br /><div><p>Let's CELEBRATE our BIG WIN and Christmas!!</p>
<p>Wine, Beer and Bites</p>
<p>$25 per person</p>
<p>Pay via credit card online or pay at the door with cash, check or card.</p></div><div>--- This iCal file does *NOT* confirm registration.Event details subject to change. ---</div><div>--- Tendenci&reg\; Software by <a href="https://www.tendenci.com">tendenci.com</a> - The Open Source AMS for Associations ---</div>
SUMMARY:M4L Charleston Christmas Party
PRIORITY:5
CLASS:PUBLIC
BEGIN:VALARM
TRIGGER:-PT30M
ACTION:DISPLAY
DESCRIPTION:Reminder
END:VALARM
END:VEVENT
END:VCALENDAR
