BEGIN:VCALENDAR
PRODID:-//Tendenci - The Open Source AMS for Associations//Tendenci Codebase 12 MIMEDIR//EN
VERSION:2.0
METHOD:PUBLISH
BEGIN:VEVENT
DTSTAMP:20260423T133018Z
ORGANIZER:
DTSTART:20221207T053000Z
DTEND:20221207T073000Z
LOCATION:
TRANSP:OPAQUE
SEQUENCE:0
UID:uid1124@portal.momsforliberty.org
DESCRIPTION:--- This iCal file does *NOT* confirm registration.\r\nEvent details subject to change. ---\r\nhttps://portal.momsforliberty.org/events/1124/\r\n\r\nEvent Title: Board of Education Meeting\r\nStart Date / Time: Dec 07, 2022 00:30 AM US/Eastern\r\nLocation: \r\nGoogle\r\nhttp://maps.google.com/maps?q=4801+Bethania+Station+Road,Winston Salem,NC\r\n\r\nForecast\nhttp://www.weather.com/weather/monthly/\r\n\r\nNOTICE: The Board of Education meeting for December 6, 2022 has ben cancalled.--- This iCal file does *NOT* confirm registration.Event details subject to change. ---\r\n\r\n--- By Tendenci - The Open Source AMS for Associations ---\r\n
X-ALT-DESC;FMTTYPE=text/html:<div>--- This iCal file does *NOT* confirm registration.Event details subject to change. ---</div><h1>Event Title: Board of Education Meeting</h1><div>https://portal.momsforliberty.org/events/1124/</div><br /><div>When: Dec 07, 2022 00:30 AM US/Eastern</div><br /><br />4801 Bethania Station Road<br />Winston Salem, NC<br /><div>http://maps.google.com/maps?q=4801+Bethania+Station+Road,Winston Salem,NC</div><br /><div>Forecast: http://www.weather.com/weather/monthly/</div><br /><br /><div><p>NOTICE: The Board of Education meeting for December 6, 2022 has ben cancalled.</p></div><div>--- This iCal file does *NOT* confirm registration.Event details subject to change. ---</div><div>--- Tendenci&reg\; Software by <a href="https://www.tendenci.com">tendenci.com</a> - The Open Source AMS for Associations ---</div>
SUMMARY:Board of Education Meeting
PRIORITY:5
CLASS:PUBLIC
BEGIN:VALARM
TRIGGER:-PT30M
ACTION:DISPLAY
DESCRIPTION:Reminder
END:VALARM
END:VEVENT
END:VCALENDAR
