BEGIN:VCALENDAR
PRODID:-//Tendenci - The Open Source AMS for Associations//Tendenci Codebase 12 MIMEDIR//EN
VERSION:2.0
METHOD:PUBLISH
BEGIN:VEVENT
DTSTAMP:20260422T162101Z
ORGANIZER:Corey Johnson
DTSTART:20221203T170000Z
DTEND:20221203T230000Z
LOCATION:Laundra Brite
TRANSP:OPAQUE
SEQUENCE:0
UID:uid1126@portal.momsforliberty.org
DESCRIPTION:--- This iCal file does *NOT* confirm registration.\r\nEvent details subject to change. ---\r\nhttps://portal.momsforliberty.org/events/1126/\r\n\r\nEvent Title: Laundromat Event\r\nStart Date / Time: Dec 03, 2022 12:00 PM US/Eastern\r\nLocation: Laundra Brite\r\nGoogle\r\nhttp://maps.google.com/maps?q=5924+University+Pkwy,Winston Salem,NC,27105\r\n\r\nForecast\nhttp://www.weather.com/weather/monthly/27105\r\n\r\nJoin us as we work with WSFCS dad, Corey Johnson, to help students get their clothes washed and ready for school. Many students in WSFCS are struggling to meet this basic need. This is a simple way for us to make a difference in the lives of students in our county. Clean clothes will go a long way in giving students the confidence they need to go to school ready to learn. \r\nYou can help by donating:\r\n1. quarters to cover the cost of the laundromat machines\r\n2. laundry detergent (powder, liquid, or pods)\r\n3. dryer sheets\r\n4. your time the day of the event helping to wash, dry, and fold laundry \r\nVolunteers can start arriving as early as 6am. Corey Johnson plans to stay as long as needed and is appreciative of whatever time volunteers can offer. \r\n --- This iCal file does *NOT* confirm registration.Event details subject to change. ---\r\n\r\n--- By Tendenci - The Open Source AMS for Associations ---\r\n
X-ALT-DESC;FMTTYPE=text/html:<div>--- This iCal file does *NOT* confirm registration.Event details subject to change. ---</div><h1>Event Title: Laundromat Event</h1><div>https://portal.momsforliberty.org/events/1126/</div><br /><div>When: Dec 03, 2022 12:00 PM US/Eastern</div><br />Laundra Brite<br />5924 University Pkwy<br />Winston Salem, NC 27105<br /><div>http://maps.google.com/maps?q=5924+University+Pkwy,Winston Salem,NC,27105</div><br /><div>Forecast: http://www.weather.com/weather/monthly/27105</div><br /><br /><div><p>Join us as we work with WSFCS dad, Corey Johnson, to help students get their clothes washed and ready for school. Many students in WSFCS are struggling to meet this basic need. This is a simple way for us to make a difference in the lives of students in our county. Clean clothes will go a long way in giving students the confidence they need to go to school ready to learn.&nbsp\;</p>
<p>You can help by donating:</p>
<p>1. quarters to cover the cost of the laundromat machines</p>
<p>2. laundry detergent (powder, liquid, or pods)</p>
<p>3. dryer sheets</p>
<p>4. your time the day of the event helping to wash, dry, and fold laundry&nbsp\;</p>
<p>Volunteers can start arriving as early as 6am. Corey Johnson plans to stay as long as needed and is appreciative of whatever time volunteers can offer.&nbsp\;</p>
<p>&nbsp\;</p></div><div>--- This iCal file does *NOT* confirm registration.Event details subject to change. ---</div><div>--- Tendenci&reg\; Software by <a href="https://www.tendenci.com">tendenci.com</a> - The Open Source AMS for Associations ---</div>
SUMMARY:Laundromat Event
PRIORITY:5
CLASS:PUBLIC
BEGIN:VALARM
TRIGGER:-PT30M
ACTION:DISPLAY
DESCRIPTION:Reminder
END:VALARM
END:VEVENT
END:VCALENDAR
