BEGIN:VCALENDAR
PRODID:-//Tendenci - The Open Source AMS for Associations//Tendenci Codebase 12 MIMEDIR//EN
VERSION:2.0
METHOD:PUBLISH
BEGIN:VEVENT
DTSTAMP:20260423T051947Z
ORGANIZER:
DTSTART:20221214T053000Z
DTEND:20221214T080000Z
LOCATION:
TRANSP:OPAQUE
SEQUENCE:0
UID:uid1130@portal.momsforliberty.org
DESCRIPTION:--- This iCal file does *NOT* confirm registration.\r\nEvent details subject to change. ---\r\nhttps://portal.momsforliberty.org/events/1130/\r\n\r\nEvent Title: Lexington County Trivia Night\r\nStart Date / Time: Dec 14, 2022 00:30 AM America/New_York\r\nLocation: \r\nWe will be having our final group meet up at Krafty Draft Pub. We will be competing in their trivia night. This is Dutch Treat. We also are still collecting donations for the Dickerson Children Advocacy Center. --- This iCal file does *NOT* confirm registration.Event details subject to change. ---\r\n\r\n--- By Tendenci - The Open Source AMS for Associations ---\r\n
X-ALT-DESC;FMTTYPE=text/html:<div>--- This iCal file does *NOT* confirm registration.Event details subject to change. ---</div><h1>Event Title: Lexington County Trivia Night</h1><div>https://portal.momsforliberty.org/events/1130/</div><br /><div>When: Dec 14, 2022 00:30 AM America/New_York</div><br /><div><p>We will be having our final group meet up at Krafty Draft Pub. We will be competing in their trivia night. This is Dutch Treat. We also are still collecting donations for the Dickerson Children Advocacy Center.&nbsp\;</p></div><div>--- This iCal file does *NOT* confirm registration.Event details subject to change. ---</div><div>--- Tendenci&reg\; Software by <a href="https://www.tendenci.com">tendenci.com</a> - The Open Source AMS for Associations ---</div>
SUMMARY:Lexington County Trivia Night
PRIORITY:5
CLASS:PUBLIC
BEGIN:VALARM
TRIGGER:-PT30M
ACTION:DISPLAY
DESCRIPTION:Reminder
END:VALARM
END:VEVENT
END:VCALENDAR
