BEGIN:VCALENDAR
PRODID:-//Tendenci - The Open Source AMS for Associations//Tendenci Codebase 12 MIMEDIR//EN
VERSION:2.0
METHOD:PUBLISH
BEGIN:VEVENT
DTSTAMP:20260420T223934Z
ORGANIZER:
DTSTART:20230102T040000Z
DTEND:20230102T060000Z
LOCATION:Bradford Christmas Parade
TRANSP:OPAQUE
SEQUENCE:0
UID:uid1154@portal.momsforliberty.org
DESCRIPTION:--- This iCal file does *NOT* confirm registration.\r\nEvent details subject to change. ---\r\nhttps://portal.momsforliberty.org/events/1154/\r\n\r\nEvent Title: Bradford Christmas Parade\r\nStart Date / Time: Jan 01, 2023 23:00 PM America/New_York\r\nLocation: Bradford Christmas Parade\r\nGoogle\r\nhttp://maps.google.com/maps?q=Main+Street,Bradford,,PA,16701\r\n\r\nForecast\nhttp://www.weather.com/weather/monthly/16701\r\n\r\nWe will be marching in the Bradford Chirstmas Parade.  \r\n \r\nLining up at aout 5:15 p.m.  starting at 6 p.m. \r\n \r\nWe will be walking, not riding on a float.  \r\n \r\nFestive Music selection ready to go, with out stand up, We don't co-parent with the government sign and new 5foot by 4 foot banner made by a local business, Everything Printed.  \r\n \r\nCome out and celebrate the season with us.  --- This iCal file does *NOT* confirm registration.Event details subject to change. ---\r\n\r\n--- By Tendenci - The Open Source AMS for Associations ---\r\n
X-ALT-DESC;FMTTYPE=text/html:<div>--- This iCal file does *NOT* confirm registration.Event details subject to change. ---</div><h1>Event Title: Bradford Christmas Parade</h1><div>https://portal.momsforliberty.org/events/1154/</div><br /><div>When: Jan 01, 2023 23:00 PM America/New_York</div><br />Bradford Christmas Parade<br />Main Street<br />Bradford,, PA 16701<br /><div>http://maps.google.com/maps?q=Main+Street,Bradford,,PA,16701</div><br /><div>Forecast: http://www.weather.com/weather/monthly/16701</div><br /><br /><div><p>We will be marching in the Bradford Chirstmas Parade. &nbsp\;</p>
<p>&nbsp\;</p>
<p>Lining up at aout 5:15 p.m. &nbsp\;starting at 6 p.m.&nbsp\;</p>
<p>&nbsp\;</p>
<p>We will be walking, not riding on a float. &nbsp\;</p>
<p>&nbsp\;</p>
<p>Festive Music selection ready to go, with out stand up, We don't co-parent with the government sign and new 5foot by 4 foot banner made by a local business, Everything Printed. &nbsp\;</p>
<p>&nbsp\;</p>
<p>Come out and celebrate the season with us. &nbsp\;</p></div><div>--- This iCal file does *NOT* confirm registration.Event details subject to change. ---</div><div>--- Tendenci&reg\; Software by <a href="https://www.tendenci.com">tendenci.com</a> - The Open Source AMS for Associations ---</div>
SUMMARY:Bradford Christmas Parade
PRIORITY:5
CLASS:PUBLIC
BEGIN:VALARM
TRIGGER:-PT30M
ACTION:DISPLAY
DESCRIPTION:Reminder
END:VALARM
END:VEVENT
END:VCALENDAR
