BEGIN:VCALENDAR
PRODID:-//Tendenci - The Open Source AMS for Associations//Tendenci Codebase 12 MIMEDIR//EN
VERSION:2.0
METHOD:PUBLISH
BEGIN:VEVENT
DTSTAMP:20260426T041947Z
ORGANIZER:
DTSTART:20221212T070000Z
DTEND:20221212T090000Z
LOCATION:Eagle Ridge Golf Course Williston North Dakota
TRANSP:OPAQUE
SEQUENCE:0
UID:uid1163@portal.momsforliberty.org
DESCRIPTION:--- This iCal file does *NOT* confirm registration.\r\nEvent details subject to change. ---\r\nhttps://portal.momsforliberty.org/events/1163/\r\n\r\nEvent Title: Moms For Liberty Williams County ND Chapter Meeting\r\nStart Date / Time: Dec 12, 2022 01:00 AM US/Central\r\nLocation: Eagle Ridge Golf Course Williston North Dakota\r\nGoogle\r\nhttp://maps.google.com/maps?q=6401+3rd+Ave+E+Suite+1,Williston,ND,58801\r\n\r\nForecast\nhttp://www.weather.com/weather/monthly/58801\r\n\r\nJoin us for our Monthly Chapter Meeting! Find out about who we are, what we stand for, and what we are doing in our community! --- This iCal file does *NOT* confirm registration.Event details subject to change. ---\r\n\r\n--- By Tendenci - The Open Source AMS for Associations ---\r\n
X-ALT-DESC;FMTTYPE=text/html:<div>--- This iCal file does *NOT* confirm registration.Event details subject to change. ---</div><h1>Event Title: Moms For Liberty Williams County ND Chapter Meeting</h1><div>https://portal.momsforliberty.org/events/1163/</div><br /><div>When: Dec 12, 2022 01:00 AM US/Central</div><br />Eagle Ridge Golf Course Williston North Dakota<br />6401 3rd Ave E Suite 1<br />Williston, ND 58801<br /><div>http://maps.google.com/maps?q=6401+3rd+Ave+E+Suite+1,Williston,ND,58801</div><br /><div>Forecast: http://www.weather.com/weather/monthly/58801</div><br /><br /><div><p>Join us for our Monthly Chapter Meeting! Find out about who we are, what we stand for, and what we are doing in our community!&nbsp\;</p></div><div>--- This iCal file does *NOT* confirm registration.Event details subject to change. ---</div><div>--- Tendenci&reg\; Software by <a href="https://www.tendenci.com">tendenci.com</a> - The Open Source AMS for Associations ---</div>
SUMMARY:Moms For Liberty Williams County ND Chapter Meeting
PRIORITY:5
CLASS:PUBLIC
BEGIN:VALARM
TRIGGER:-PT30M
ACTION:DISPLAY
DESCRIPTION:Reminder
END:VALARM
END:VEVENT
END:VCALENDAR
