BEGIN:VCALENDAR
PRODID:-//Tendenci - The Open Source AMS for Associations//Tendenci Codebase 12 MIMEDIR//EN
VERSION:2.0
METHOD:PUBLISH
BEGIN:VEVENT
DTSTAMP:20260422T062016Z
ORGANIZER:
DTSTART:20230105T010000Z
DTEND:20230105T080000Z
LOCATION:
TRANSP:OPAQUE
SEQUENCE:0
UID:uid1167@portal.momsforliberty.org
DESCRIPTION:--- This iCal file does *NOT* confirm registration.\r\nEvent details subject to change. ---\r\nhttps://portal.momsforliberty.org/events/1167/\r\n\r\nEvent Title: Workshop and School board meeting\r\nStart Date / Time: Jan 04, 2023 19:00 PM US/Central\r\nLocation: \r\nGoogle\r\nhttp://maps.google.com/maps?q=1769+East+Moody+Boulevard,,Bunnell,FL,32110\r\n\r\nForecast\nhttp://www.weather.com/weather/monthly/32110\r\n\r\nAddress of the Government Services Building:\r\n1769 E. Moody Blvd., Building 2\r\nBunnell, FL\r\n \r\nJan 4 \r\nWorkshop: 1:00-4:00\r\nBoard meeting: 6:00-8:00\r\n --- This iCal file does *NOT* confirm registration.Event details subject to change. ---\r\n\r\n--- By Tendenci - The Open Source AMS for Associations ---\r\n
X-ALT-DESC;FMTTYPE=text/html:<div>--- This iCal file does *NOT* confirm registration.Event details subject to change. ---</div><h1>Event Title: Workshop and School board meeting</h1><div>https://portal.momsforliberty.org/events/1167/</div><br /><div>When: Jan 04, 2023 19:00 PM US/Central</div><br /><br />1769 East Moody Boulevard,<br />Bunnell, FL 32110<br /><div>http://maps.google.com/maps?q=1769+East+Moody+Boulevard,,Bunnell,FL,32110</div><br /><div>Forecast: http://www.weather.com/weather/monthly/32110</div><br /><br /><div><div class="x_elementToProof">Address of the Government Services Building:</div>
<div class="x_elementToProof">1769 E. Moody Blvd., Building 2</div>
<div class="x_elementToProof">Bunnell, FL</div>
<div class="x_elementToProof">&nbsp\;</div>
<div class="x_elementToProof">Jan 4&nbsp\;</div>
<div class="x_elementToProof">Workshop: 1:00-4:00</div>
<div class="x_elementToProof">Board meeting: 6:00-8:00</div>
<div class="x_elementToProof">&nbsp\;</div></div><div>--- This iCal file does *NOT* confirm registration.Event details subject to change. ---</div><div>--- Tendenci&reg\; Software by <a href="https://www.tendenci.com">tendenci.com</a> - The Open Source AMS for Associations ---</div>
SUMMARY:Workshop and School board meeting
PRIORITY:5
CLASS:PUBLIC
BEGIN:VALARM
TRIGGER:-PT30M
ACTION:DISPLAY
DESCRIPTION:Reminder
END:VALARM
END:VEVENT
END:VCALENDAR
