BEGIN:VCALENDAR
PRODID:-//Tendenci - The Open Source AMS for Associations//Tendenci Codebase 12 MIMEDIR//EN
VERSION:2.0
METHOD:PUBLISH
BEGIN:VEVENT
DTSTAMP:20260421T024617Z
ORGANIZER:
DTSTART:20230422T190000Z
DTEND:20230427T210000Z
LOCATION:Acappella's Restaurant
TRANSP:OPAQUE
SEQUENCE:0
UID:uid1179@portal.momsforliberty.org
DESCRIPTION:--- This iCal file does *NOT* confirm registration.\r\nEvent details subject to change. ---\r\nhttps://portal.momsforliberty.org/events/1179/\r\n\r\nEvent Title: Monthly Chapter Meeting\r\nStart Date / Time: Apr 22, 2023 15:00 PM America/New_York\r\nLocation: Acappella's Restaurant\r\nGoogle\r\nhttp://maps.google.com/maps?q=2402+Pleasantville+Rd.,Fallston,MD,21047\r\n\r\nForecast\nhttp://www.weather.com/weather/monthly/21047\r\n\r\nIt's our 1 Year Anniversary!--- This iCal file does *NOT* confirm registration.Event details subject to change. ---\r\n\r\n--- By Tendenci - The Open Source AMS for Associations ---\r\n
X-ALT-DESC;FMTTYPE=text/html:<div>--- This iCal file does *NOT* confirm registration.Event details subject to change. ---</div><h1>Event Title: Monthly Chapter Meeting</h1><div>https://portal.momsforliberty.org/events/1179/</div><br /><div>When: Apr 22, 2023 15:00 PM America/New_York</div><br />Acappella's Restaurant<br />2402 Pleasantville Rd.<br />Fallston, MD 21047<br /><div>http://maps.google.com/maps?q=2402+Pleasantville+Rd.,Fallston,MD,21047</div><br /><div>Forecast: http://www.weather.com/weather/monthly/21047</div><br /><br /><div><p>It's our 1 Year Anniversary!</p></div><div>--- This iCal file does *NOT* confirm registration.Event details subject to change. ---</div><div>--- Tendenci&reg\; Software by <a href="https://www.tendenci.com">tendenci.com</a> - The Open Source AMS for Associations ---</div>
SUMMARY:Monthly Chapter Meeting
PRIORITY:5
CLASS:PUBLIC
BEGIN:VALARM
TRIGGER:-PT30M
ACTION:DISPLAY
DESCRIPTION:Reminder
END:VALARM
END:VEVENT
END:VCALENDAR
