BEGIN:VCALENDAR
PRODID:-//Tendenci - The Open Source AMS for Associations//Tendenci Codebase 12 MIMEDIR//EN
VERSION:2.0
METHOD:PUBLISH
BEGIN:VEVENT
DTSTAMP:20260423T095910Z
ORGANIZER:Moms for Liberty Duval
DTSTART:20230125T060000Z
DTEND:20230125T080000Z
LOCATION:Noura's Cafe
TRANSP:OPAQUE
SEQUENCE:0
UID:uid1247@portal.momsforliberty.org
DESCRIPTION:--- This iCal file does *NOT* confirm registration.\r\nEvent details subject to change. ---\r\nhttps://portal.momsforliberty.org/events/1247/\r\n\r\nEvent Title: Moms for Liberty Duval Chapter Meeting\r\nStart Date / Time: Jan 25, 2023 00:00 AM US/Central\r\nLocation: Noura's Cafe\r\nGoogle\r\nhttp://maps.google.com/maps?q=1533+University+Blvd+West,Jacksonville,FL,32217\r\n\r\nForecast\nhttp://www.weather.com/weather/monthly/32217\r\n\r\nOur momentum is growing! Please join us for updates, 2023 plans, and an opportunity to befriend some of the best people in Duval County.--- This iCal file does *NOT* confirm registration.Event details subject to change. ---\r\n\r\n--- By Tendenci - The Open Source AMS for Associations ---\r\n
X-ALT-DESC;FMTTYPE=text/html:<div>--- This iCal file does *NOT* confirm registration.Event details subject to change. ---</div><h1>Event Title: Moms for Liberty Duval Chapter Meeting</h1><div>https://portal.momsforliberty.org/events/1247/</div><br /><div>When: Jan 25, 2023 00:00 AM US/Central</div><br />Noura's Cafe<br />1533 University Blvd West<br />Jacksonville, FL 32217<br /><div>http://maps.google.com/maps?q=1533+University+Blvd+West,Jacksonville,FL,32217</div><br /><div>Forecast: http://www.weather.com/weather/monthly/32217</div><br /><br /><div><p>Our momentum is growing! Please join us for updates, 2023 plans, and an opportunity to befriend some of the best people in Duval County.</p></div><div>--- This iCal file does *NOT* confirm registration.Event details subject to change. ---</div><div>--- Tendenci&reg\; Software by <a href="https://www.tendenci.com">tendenci.com</a> - The Open Source AMS for Associations ---</div>
SUMMARY:Moms for Liberty Duval Chapter Meeting
PRIORITY:5
CLASS:PUBLIC
BEGIN:VALARM
TRIGGER:-PT30M
ACTION:DISPLAY
DESCRIPTION:Reminder
END:VALARM
END:VEVENT
END:VCALENDAR
