BEGIN:VCALENDAR
PRODID:-//Tendenci - The Open Source AMS for Associations//Tendenci Codebase 12 MIMEDIR//EN
VERSION:2.0
METHOD:PUBLISH
BEGIN:VEVENT
DTSTAMP:20260422T115204Z
ORGANIZER:
DTSTART:20211115T120000Z
DTEND:20211116T115959Z
LOCATION:California State Capitol
TRANSP:OPAQUE
SEQUENCE:0
UID:uid126@portal.momsforliberty.org
DESCRIPTION:--- This iCal file does *NOT* confirm registration.\r\nEvent details subject to change. ---\r\nhttps://portal.momsforliberty.org/events/126/\r\n\r\nEvent Title: Statewide School Walkout\r\nStart Date / Time: Nov 15, 2021 06:00 AM US/Central\r\nLocation: California State Capitol\r\nKeep your elementary, middle and high school kids home!\r\n \r\nM4L - Yolo County will have a booth set up at the capitol.\r\n \r\nKeep your kids home and join us at the protest!--- This iCal file does *NOT* confirm registration.Event details subject to change. ---\r\n\r\n--- By Tendenci - The Open Source AMS for Associations ---\r\n
X-ALT-DESC;FMTTYPE=text/html:<div>--- This iCal file does *NOT* confirm registration.Event details subject to change. ---</div><h1>Event Title: Statewide School Walkout</h1><div>https://portal.momsforliberty.org/events/126/</div><br /><div>When: Nov 15, 2021 06:00 AM US/Central</div><br /><div><p>Keep your elementary, middle and high school kids home!</p>
<p>&nbsp\;</p>
<p>M4L - Yolo County will have a booth set up at the capitol.</p>
<p>&nbsp\;</p>
<p>Keep your kids home and join us at the protest!</p></div><div>--- This iCal file does *NOT* confirm registration.Event details subject to change. ---</div><div>--- Tendenci&reg\; Software by <a href="https://www.tendenci.com">tendenci.com</a> - The Open Source AMS for Associations ---</div>
SUMMARY:Statewide School Walkout
PRIORITY:5
CLASS:PUBLIC
BEGIN:VALARM
TRIGGER:-PT30M
ACTION:DISPLAY
DESCRIPTION:Reminder
END:VALARM
END:VEVENT
END:VCALENDAR
