BEGIN:VCALENDAR
PRODID:-//Tendenci - The Open Source AMS for Associations//Tendenci Codebase 12 MIMEDIR//EN
VERSION:2.0
METHOD:PUBLISH
BEGIN:VEVENT
DTSTAMP:20260423T051945Z
ORGANIZER:
DTSTART:20230119T050000Z
DTEND:20230119T080000Z
LOCATION:Talbot Education Center
TRANSP:OPAQUE
SEQUENCE:0
UID:uid1317@portal.momsforliberty.org
DESCRIPTION:--- This iCal file does *NOT* confirm registration.\r\nEvent details subject to change. ---\r\nhttps://portal.momsforliberty.org/events/1317/\r\n\r\nEvent Title: Talbot County Board of Education Meeting\r\nStart Date / Time: Jan 19, 2023 00:00 AM America/New_York\r\nLocation: Talbot Education Center\r\nGoogle\r\nhttp://maps.google.com/maps?q=12+Magnolia+Street,Easton,MD,21601\r\n\r\nForecast\nhttp://www.weather.com/weather/monthly/21601\r\n\r\nTalbot County Board of Education Meeting, Wednesday, January 18, 2023\r\nThe Superintendent will be presenting her budget for 23/24\r\nPUBLIC BUDGET HEARING: 5:30\r\nBusiness Meeting:6 PM\r\nGeneral Meeting: 7 PM\r\nIf you wish to speak you may sign up at the meeting or contact cgould@talbotschools.org ( Charlene Gould)\r\nStart 2023 Off RIGHT!\r\n \r\n --- This iCal file does *NOT* confirm registration.Event details subject to change. ---\r\n\r\n--- By Tendenci - The Open Source AMS for Associations ---\r\n
X-ALT-DESC;FMTTYPE=text/html:<div>--- This iCal file does *NOT* confirm registration.Event details subject to change. ---</div><h1>Event Title: Talbot County Board of Education Meeting</h1><div>https://portal.momsforliberty.org/events/1317/</div><br /><div>When: Jan 19, 2023 00:00 AM America/New_York</div><br />Talbot Education Center<br />12 Magnolia Street<br />Easton, MD 21601<br /><div>http://maps.google.com/maps?q=12+Magnolia+Street,Easton,MD,21601</div><br /><div>Forecast: http://www.weather.com/weather/monthly/21601</div><br /><br /><div><p>Talbot County Board of Education Meeting, Wednesday, January 18, 2023</p>
<p>The Superintendent will be presenting her budget for 23/24</p>
<p>PUBLIC BUDGET HEARING: 5:30</p>
<p>Business Meeting:6 PM</p>
<p>General Meeting: 7 PM</p>
<p>If you wish to speak you may sign up at the meeting or contact <a href="mailto:cgould@talbotschools.org">cgould@talbotschools.org</a>&nbsp\;( Charlene Gould)</p>
<p>Start 2023 Off RIGHT!</p>
<p>&nbsp\;</p>
<p>&nbsp\;</p></div><div>--- This iCal file does *NOT* confirm registration.Event details subject to change. ---</div><div>--- Tendenci&reg\; Software by <a href="https://www.tendenci.com">tendenci.com</a> - The Open Source AMS for Associations ---</div>
SUMMARY:Talbot County Board of Education Meeting
PRIORITY:5
CLASS:PUBLIC
BEGIN:VALARM
TRIGGER:-PT30M
ACTION:DISPLAY
DESCRIPTION:Reminder
END:VALARM
END:VEVENT
END:VCALENDAR
