BEGIN:VCALENDAR
PRODID:-//Tendenci - The Open Source AMS for Associations//Tendenci Codebase 12 MIMEDIR//EN
VERSION:2.0
METHOD:PUBLISH
BEGIN:VEVENT
DTSTAMP:20260421T212358Z
ORGANIZER:
DTSTART:20230120T070000Z
DTEND:20230120T123000Z
LOCATION:Academy School District 20 Board Meeting
TRANSP:OPAQUE
SEQUENCE:0
UID:uid1331@portal.momsforliberty.org
DESCRIPTION:--- This iCal file does *NOT* confirm registration.\r\nEvent details subject to change. ---\r\nhttps://portal.momsforliberty.org/events/1331/\r\n\r\nEvent Title: D20 Board Meeting\r\nStart Date / Time: Jan 20, 2023 00:00 AM America/Denver\r\nLocation: Academy School District 20 Board Meeting\r\nGoogle\r\nhttp://maps.google.com/maps?q=1110+Chapel+Hills+Dr.,Colorado Springs,CO,80920\r\n\r\nForecast\nhttp://www.weather.com/weather/monthly/80920\r\n\r\nPlease note as we get into the holiday season board meetings, and work sessions for each district may change dates, and times slightly. We do our best to keep our calendar as up-to-date as possible but its always best to double-check times and dates on the website of the district. Also please note that severe weather may change the times and locations of board meetings and work sessions as well. All announcements for this will be made on the district website.www.asd20.org--- This iCal file does *NOT* confirm registration.Event details subject to change. ---\r\n\r\n--- By Tendenci - The Open Source AMS for Associations ---\r\n
X-ALT-DESC;FMTTYPE=text/html:<div>--- This iCal file does *NOT* confirm registration.Event details subject to change. ---</div><h1>Event Title: D20 Board Meeting</h1><div>https://portal.momsforliberty.org/events/1331/</div><br /><div>When: Jan 20, 2023 00:00 AM America/Denver</div><br />Academy School District 20 Board Meeting<br />1110 Chapel Hills Dr.<br />Colorado Springs, CO 80920<br /><div>http://maps.google.com/maps?q=1110+Chapel+Hills+Dr.,Colorado Springs,CO,80920</div><br /><div>Forecast: http://www.weather.com/weather/monthly/80920</div><br /><br /><div><p>Please note as we get into the holiday season board meetings, and work sessions for each district may change dates, and times slightly. We do our best to keep our calendar as up-to-date as possible but its always best to double-check times and dates on the website of the district. Also please note that severe weather may change the times and locations of board meetings and work sessions as well. All announcements for this will be made on the district website.<br /><a href="http://www.asd20.org/" target="_blank" rel="noopener">www.asd20.org</a></p></div><div>--- This iCal file does *NOT* confirm registration.Event details subject to change. ---</div><div>--- Tendenci&reg\; Software by <a href="https://www.tendenci.com">tendenci.com</a> - The Open Source AMS for Associations ---</div>
SUMMARY:D20 Board Meeting
PRIORITY:5
CLASS:PUBLIC
BEGIN:VALARM
TRIGGER:-PT30M
ACTION:DISPLAY
DESCRIPTION:Reminder
END:VALARM
END:VEVENT
END:VCALENDAR
