BEGIN:VCALENDAR
PRODID:-//Tendenci - The Open Source AMS for Associations//Tendenci Codebase 12 MIMEDIR//EN
VERSION:2.0
METHOD:PUBLISH
BEGIN:VEVENT
DTSTAMP:20260420T044144Z
ORGANIZER:
DTSTART:20230124T070000Z
DTEND:20230124T090000Z
LOCATION:Gretna Public Schools -  Administration Building
TRANSP:OPAQUE
SEQUENCE:0
UID:uid1345@portal.momsforliberty.org
DESCRIPTION:--- This iCal file does *NOT* confirm registration.\r\nEvent details subject to change. ---\r\nhttps://portal.momsforliberty.org/events/1345/\r\n\r\nEvent Title: Gretna January School Board Meeting\r\nStart Date / Time: Jan 24, 2023 01:00 AM US/Central\r\nLocation: Gretna Public Schools -  Administration Building\r\nNotice of Regular Board Meeting--- This iCal file does *NOT* confirm registration.Event details subject to change. ---\r\n\r\n--- By Tendenci - The Open Source AMS for Associations ---\r\n
X-ALT-DESC;FMTTYPE=text/html:<div>--- This iCal file does *NOT* confirm registration.Event details subject to change. ---</div><h1>Event Title: Gretna January School Board Meeting</h1><div>https://portal.momsforliberty.org/events/1345/</div><br /><div>When: Jan 24, 2023 01:00 AM US/Central</div><br /><div><p>Notice of Regular Board Meeting</p></div><div>--- This iCal file does *NOT* confirm registration.Event details subject to change. ---</div><div>--- Tendenci&reg\; Software by <a href="https://www.tendenci.com">tendenci.com</a> - The Open Source AMS for Associations ---</div>
SUMMARY:Gretna January School Board Meeting
PRIORITY:5
CLASS:PUBLIC
BEGIN:VALARM
TRIGGER:-PT30M
ACTION:DISPLAY
DESCRIPTION:Reminder
END:VALARM
END:VEVENT
END:VCALENDAR
