BEGIN:VCALENDAR
PRODID:-//Tendenci - The Open Source AMS for Associations//Tendenci Codebase 12 MIMEDIR//EN
VERSION:2.0
METHOD:PUBLISH
BEGIN:VEVENT
DTSTAMP:20260422T164622Z
ORGANIZER:The Road at Chapel Hills
DTSTART:20230128T063000Z
DTEND:20230128T100000Z
LOCATION:The Road Church
TRANSP:OPAQUE
SEQUENCE:0
UID:uid1356@portal.momsforliberty.org
DESCRIPTION:--- This iCal file does *NOT* confirm registration.\r\nEvent details subject to change. ---\r\nhttps://portal.momsforliberty.org/events/1356/\r\n\r\nEvent Title: God, Sex, and Science\r\nStart Date / Time: Jan 27, 2023 23:30 PM America/Denver\r\nLocation: The Road Church\r\nGoogle\r\nhttp://maps.google.com/maps?q=2025+Parliament+Dr.,Colorado Springs,CO,80920\r\n\r\nForecast\nhttp://www.weather.com/weather/monthly/80920\r\n\r\n\r\n\r\nFrom the sexual revolution of the &rsquo\;60s to the hook-up culture of the 2000s, many of us are experiencing the backlash of a culture thrown into crisis and chaos. We have ALL been impacted! At this conference, we desire to clarify how the subjects of God, Sex and Science converge to provide new and hopeful solutions for our lives. Truth sets us free and will empower us.  We desire to empower you to navigate God&rsquo\;s design for a Kingdom of God Revolution of life through speakers like Melissa Ohden and Lisa Davis. Our conference will also include a panel of experts on subjects relating to the matters of life, addressing openly your questions and concerns. Be encouraged and grab some hope!\r\n\r\n\r\n --- This iCal file does *NOT* confirm registration.Event details subject to change. ---\r\n\r\n--- By Tendenci - The Open Source AMS for Associations ---\r\n
X-ALT-DESC;FMTTYPE=text/html:<div>--- This iCal file does *NOT* confirm registration.Event details subject to change. ---</div><h1>Event Title: God, Sex, and Science</h1><div>https://portal.momsforliberty.org/events/1356/</div><br /><div>When: Jan 27, 2023 23:30 PM America/Denver</div><br />The Road Church<br />2025 Parliament Dr.<br />Colorado Springs, CO 80920<br /><div>http://maps.google.com/maps?q=2025+Parliament+Dr.,Colorado Springs,CO,80920</div><br /><div>Forecast: http://www.weather.com/weather/monthly/80920</div><br /><br /><div><div class="wpb_text_column wpb_content_element ">
<div class="wpb_wrapper">
<p>From the sexual revolution of the &rsquo\;60s to the hook-up culture of the 2000s, many of us are experiencing the backlash of a culture thrown into crisis and chaos. We have ALL been impacted! At this conference, we desire to clarify how the subjects of God, Sex and Science converge to provide new and hopeful solutions for our lives. Truth sets us free and will empower us.&nbsp\; We desire to empower you to navigate God&rsquo\;s design for a Kingdom of God Revolution of life through speakers like Melissa Ohden and Lisa Davis. Our conference will also include a panel of experts on subjects relating to the matters of life, addressing openly your questions and concerns. Be encouraged and grab some hope!</p>
</div>
</div>
<div class="divider-wrap" data-alignment="default">&nbsp\;</div></div><div>--- This iCal file does *NOT* confirm registration.Event details subject to change. ---</div><div>--- Tendenci&reg\; Software by <a href="https://www.tendenci.com">tendenci.com</a> - The Open Source AMS for Associations ---</div>
SUMMARY:God, Sex, and Science
PRIORITY:5
CLASS:PUBLIC
BEGIN:VALARM
TRIGGER:-PT30M
ACTION:DISPLAY
DESCRIPTION:Reminder
END:VALARM
END:VEVENT
END:VCALENDAR
