BEGIN:VCALENDAR
PRODID:-//Tendenci - The Open Source AMS for Associations//Tendenci Codebase 12 MIMEDIR//EN
VERSION:2.0
METHOD:PUBLISH
BEGIN:VEVENT
DTSTAMP:20260422T050604Z
ORGANIZER:
DTSTART:20230130T053000Z
DTEND:20230130T063000Z
LOCATION:Woke Ed 101
TRANSP:OPAQUE
SEQUENCE:0
UID:uid1380@portal.momsforliberty.org
DESCRIPTION:--- This iCal file does *NOT* confirm registration.\r\nEvent details subject to change. ---\r\nhttps://portal.momsforliberty.org/events/1380/\r\n\r\nEvent Title: Woke Ed 101\r\nStart Date / Time: Jan 30, 2023 00:30 AM US/Eastern\r\nLocation: Woke Ed 101\r\nJoin us as we share a 15 min presentation from consultant and former teacher, Jennifer McWilliams to learn about what events led to the issues we are seeing in education today. The topics SEL, CRT and DEI are addressed in this introduction that will help form the basis for future trainings and presentations. --- This iCal file does *NOT* confirm registration.Event details subject to change. ---\r\n\r\n--- By Tendenci - The Open Source AMS for Associations ---\r\n
X-ALT-DESC;FMTTYPE=text/html:<div>--- This iCal file does *NOT* confirm registration.Event details subject to change. ---</div><h1>Event Title: Woke Ed 101</h1><div>https://portal.momsforliberty.org/events/1380/</div><br /><div>When: Jan 30, 2023 00:30 AM US/Eastern</div><br /><div><p>Join us as we share a 15 min presentation from consultant and former teacher, Jennifer McWilliams to learn about what events led to the issues we are seeing in education today. The topics SEL, CRT and DEI are addressed in this introduction that will help form the basis for future trainings and presentations.&nbsp\;</p></div><div>--- This iCal file does *NOT* confirm registration.Event details subject to change. ---</div><div>--- Tendenci&reg\; Software by <a href="https://www.tendenci.com">tendenci.com</a> - The Open Source AMS for Associations ---</div>
SUMMARY:Woke Ed 101
PRIORITY:5
CLASS:PUBLIC
BEGIN:VALARM
TRIGGER:-PT30M
ACTION:DISPLAY
DESCRIPTION:Reminder
END:VALARM
END:VEVENT
END:VCALENDAR
