BEGIN:VCALENDAR
PRODID:-//Tendenci - The Open Source AMS for Associations//Tendenci Codebase 12 MIMEDIR//EN
VERSION:2.0
METHOD:PUBLISH
BEGIN:VEVENT
DTSTAMP:20260421T144213Z
ORGANIZER:Moms for Liberty - Kershaw County, SC
DTSTART:20230301T050000Z
DTEND:20230301T070000Z
LOCATION:American Patriot Coffee
TRANSP:OPAQUE
SEQUENCE:0
UID:uid1394@portal.momsforliberty.org
DESCRIPTION:--- This iCal file does *NOT* confirm registration.\r\nEvent details subject to change. ---\r\nhttps://portal.momsforliberty.org/events/1394/\r\n\r\nEvent Title: Monthly Chapter Meeting\r\nStart Date / Time: Mar 01, 2023 00:00 AM US/Eastern\r\nLocation: American Patriot Coffee\r\nSpeaker: Councilman Russell Brazell\r\nGoogle\r\nhttp://maps.google.com/maps?q=1012+Broad+Street,Camden,SC,29020\r\n\r\nForecast\nhttp://www.weather.com/weather/monthly/29020\r\n\r\nJoin us Tuesday, February 28th for one of our most informational meetings yet!\r\nWe've got lots to unpack from the first annual Moms for Liberty SC Legislative Day\r\nWhat's going on with the Parental Rights Resolution??Come hear from Councilman Brazell on the current status and what's in coming up next.\r\n** We've got a new location **Join us Tuesday, February 28th6:00 - 8:00American Patriot Coffee1012 Broad StreetCamden, SC 29020--- This iCal file does *NOT* confirm registration.Event details subject to change. ---\r\n\r\n--- By Tendenci - The Open Source AMS for Associations ---\r\n
X-ALT-DESC;FMTTYPE=text/html:<div>--- This iCal file does *NOT* confirm registration.Event details subject to change. ---</div><h1>Event Title: Monthly Chapter Meeting</h1><div>https://portal.momsforliberty.org/events/1394/</div><br /><div>When: Mar 01, 2023 00:00 AM US/Eastern</div><div>Speaker: Councilman Russell Brazell</div><br />American Patriot Coffee<br />1012 Broad Street<br />Camden, SC 29020<br /><div>http://maps.google.com/maps?q=1012+Broad+Street,Camden,SC,29020</div><br /><div>Forecast: http://www.weather.com/weather/monthly/29020</div><br /><br /><div><p>Join us Tuesday, February 28th for one of our most informational meetings yet!</p>
<p>We've got lots to unpack from the first annual Moms for Liberty SC Legislative Day</p>
<p>What's going on with the Parental Rights Resolution??<br />Come hear from Councilman Brazell on the current status and what's in coming up next.</p>
<p style="text-align: center\;"><br />** <em>We've got a new location</em> **<br />Join us Tuesday, February 28th<br />6:00 - 8:00<br /><em><strong>American Patriot Coffee</strong></em><br />1012 Broad Street<br />Camden, SC 29020</p></div><div>--- This iCal file does *NOT* confirm registration.Event details subject to change. ---</div><div>--- Tendenci&reg\; Software by <a href="https://www.tendenci.com">tendenci.com</a> - The Open Source AMS for Associations ---</div>
SUMMARY:Monthly Chapter Meeting
PRIORITY:5
CLASS:PUBLIC
BEGIN:VALARM
TRIGGER:-PT30M
ACTION:DISPLAY
DESCRIPTION:Reminder
END:VALARM
END:VEVENT
END:VCALENDAR
