BEGIN:VCALENDAR
PRODID:-//Tendenci - The Open Source AMS for Associations//Tendenci Codebase 12 MIMEDIR//EN
VERSION:2.0
METHOD:PUBLISH
BEGIN:VEVENT
DTSTAMP:20260425T160218Z
ORGANIZER:
DTSTART:20230208T070000Z
DTEND:20230208T083000Z
LOCATION:Mulligan's Restaurant & Pub
TRANSP:OPAQUE
SEQUENCE:0
UID:uid1395@portal.momsforliberty.org
DESCRIPTION:--- This iCal file does *NOT* confirm registration.\r\nEvent details subject to change. ---\r\nhttps://portal.momsforliberty.org/events/1395/\r\n\r\nEvent Title: Moms for Liberty Stark Ohio - February 2023 Meeting\r\nStart Date / Time: Feb 08, 2023 01:00 AM US/Central\r\nLocation: Mulligan's Restaurant & Pub\r\nGoogle\r\nhttp://maps.google.com/maps?q=4118+Belden+Village+St+NW,Canton,OH,44718\r\n\r\nForecast\nhttp://www.weather.com/weather/monthly/44718\r\n\r\nPlease come hungry, Mulligans has graciously allowed us the room for free!\r\n \r\nMeeting Agenda: \r\n&bull\; Organizational updates&bull\; SB 1, discuss current ODE structure, and action item&bull\; School board races--- This iCal file does *NOT* confirm registration.Event details subject to change. ---\r\n\r\n--- By Tendenci - The Open Source AMS for Associations ---\r\n
X-ALT-DESC;FMTTYPE=text/html:<div>--- This iCal file does *NOT* confirm registration.Event details subject to change. ---</div><h1>Event Title: Moms for Liberty Stark Ohio - February 2023 Meeting</h1><div>https://portal.momsforliberty.org/events/1395/</div><br /><div>When: Feb 08, 2023 01:00 AM US/Central</div><br />Mulligan's Restaurant & Pub<br />4118 Belden Village St NW<br />Canton, OH 44718<br /><div>http://maps.google.com/maps?q=4118+Belden+Village+St+NW,Canton,OH,44718</div><br /><div>Forecast: http://www.weather.com/weather/monthly/44718</div><br /><br /><div><div class="x11i5rnm xat24cr x1mh8g0r x1vvkbs xdj266r">Please come hungry, Mulligans has graciously allowed us the room for free!</div>
<div class="x11i5rnm xat24cr x1mh8g0r x1vvkbs xtlvy1s">&nbsp\;</div>
<div class="x11i5rnm xat24cr x1mh8g0r x1vvkbs xtlvy1s">Meeting Agenda:&nbsp\;</div>
<div class="x11i5rnm xat24cr x1mh8g0r x1vvkbs xtlvy1s" style="padding-left: 30px\;">&bull\; Organizational updates<br />&bull\; SB 1, discuss current ODE structure, and action item<br />&bull\; School board races</div></div><div>--- This iCal file does *NOT* confirm registration.Event details subject to change. ---</div><div>--- Tendenci&reg\; Software by <a href="https://www.tendenci.com">tendenci.com</a> - The Open Source AMS for Associations ---</div>
SUMMARY:Moms for Liberty Stark Ohio - February 2023 Meeting
PRIORITY:5
CLASS:PUBLIC
BEGIN:VALARM
TRIGGER:-PT30M
ACTION:DISPLAY
DESCRIPTION:Reminder
END:VALARM
END:VEVENT
END:VCALENDAR
