BEGIN:VCALENDAR
PRODID:-//Tendenci - The Open Source AMS for Associations//Tendenci Codebase 12 MIMEDIR//EN
VERSION:2.0
METHOD:PUBLISH
BEGIN:VEVENT
DTSTAMP:20260423T190246Z
ORGANIZER:
DTSTART:20230301T063000Z
DTEND:20230301T083000Z
LOCATION:Valley Hi Golf Course 610 Chelton Rd. Colorado Springs, Co80910
TRANSP:OPAQUE
SEQUENCE:0
UID:uid1404@portal.momsforliberty.org
DESCRIPTION:--- This iCal file does *NOT* confirm registration.\r\nEvent details subject to change. ---\r\nhttps://portal.momsforliberty.org/events/1404/\r\n\r\nEvent Title: Moms For Liberty El Paso County Monthly Chapter Meeting\r\nStart Date / Time: Feb 28, 2023 23:30 PM America/Denver\r\nLocation: Valley Hi Golf Course 610 Chelton Rd. Colorado Springs, Co80910\r\nGoogle\r\nhttp://maps.google.com/maps?q=610+Chelton+Rd.,Colorado Springs,CO,80910\r\n\r\nForecast\nhttp://www.weather.com/weather/monthly/80910\r\n\r\nMoms for Liberty- El Paso County\r\n \r\nEl Paso County chapter meeting is\r\nTuesday, February 28, 2023, at 5:30 PM\r\nat Valley Hi Golf Course, 610 Chelton Rd.\r\nColorado Springs, Co 80910\r\n \r\nSpecial Guest~ HD20 Rep. Don Wilson and HD14 Rep. Rose Pugliese, Gabby Reichardt from Turning Point USA, and Log Cabin Republican President Valdamar Archuleta\r\n \r\nAll Colorado Springs City Council and Mayor candidates are welcome to come and speak on their candidacy and education for2 minutes.\r\nCome get involved and see what is going on in the area school districts.\r\nVisit: https://www.momsforliberty.org/chapters/el-paso-county-co/ for more information.\r\nHave questions or concerns?\r\nEmail us at reporting.m4lepc@gmail.com--- This iCal file does *NOT* confirm registration.Event details subject to change. ---\r\n\r\n--- By Tendenci - The Open Source AMS for Associations ---\r\n
X-ALT-DESC;FMTTYPE=text/html:<div>--- This iCal file does *NOT* confirm registration.Event details subject to change. ---</div><h1>Event Title: Moms For Liberty El Paso County Monthly Chapter Meeting</h1><div>https://portal.momsforliberty.org/events/1404/</div><br /><div>When: Feb 28, 2023 23:30 PM America/Denver</div><br />Valley Hi Golf Course 610 Chelton Rd. Colorado Springs, Co80910<br />610 Chelton Rd.<br />Colorado Springs, CO 80910<br /><div>http://maps.google.com/maps?q=610+Chelton+Rd.,Colorado Springs,CO,80910</div><br /><div>Forecast: http://www.weather.com/weather/monthly/80910</div><br /><br /><div><p class="_04xlpA direction-ltr align-center para-style-body"><span class="S1PPyQ">Moms </span><span class="S1PPyQ">for</span><span class="S1PPyQ"> Liberty- El Paso County</span></p>
<p class="_04xlpA direction-ltr align-center para-style-body">&nbsp\;</p>
<p class="_04xlpA direction-ltr align-center para-style-body"><span class="S1PPyQ">El Paso County chapter meeting is</span></p>
<p class="_04xlpA direction-ltr align-center para-style-body"><span class="S1PPyQ">Tuesday, February 28, 2023, at 5:30 PM</span></p>
<p class="_04xlpA direction-ltr align-center para-style-body"><span class="S1PPyQ">at Valley Hi Golf Course, 610 Chelton Rd.</span></p>
<p class="_04xlpA direction-ltr align-center para-style-body"><span class="S1PPyQ">Colorado Springs, Co 80910</span></p>
<p class="_04xlpA direction-ltr align-center para-style-body">&nbsp\;</p>
<p class="_04xlpA direction-ltr align-center para-style-body"><span class="S1PPyQ">Special Guest~ HD20 Rep. Don Wilson and HD14</span> <span class="S1PPyQ">Rep. Rose Pugliese,&nbsp\;Gabby Reichardt from Turning Point USA, and Log Cabin Republican President Valdamar Archuleta</span></p>
<p class="_04xlpA direction-ltr align-center para-style-body">&nbsp\;</p>
<p class="_04xlpA direction-ltr align-center para-style-body"><span class="S1PPyQ">All Colorado Springs City Council and Mayor candidates are welcome to come and speak on their candidacy and education for</span><span class="S1PPyQ">2 minutes.</span></p>
<p class="_04xlpA direction-ltr align-center para-style-body"><span class="S1PPyQ">Come get involved and see what is going on in the area school districts.</span></p>
<p class="_04xlpA direction-ltr align-center para-style-body"><span class="S1PPyQ">Visit:</span> <span class="S1PPyQ">https://www.momsforliberty.org/chapters/el-paso-county-co/</span> <span class="S1PPyQ">for </span><span class="S1PPyQ">more information.</span></p>
<p class="_04xlpA direction-ltr align-center para-style-body"><span class="S1PPyQ">Have questions or concerns?</span></p>
<p class="_04xlpA direction-ltr align-center para-style-body"><span class="S1PPyQ">Email us at</span> <span class="S1PPyQ">reporting.m4lepc@gmail.com</span></p></div><div>--- This iCal file does *NOT* confirm registration.Event details subject to change. ---</div><div>--- Tendenci&reg\; Software by <a href="https://www.tendenci.com">tendenci.com</a> - The Open Source AMS for Associations ---</div>
SUMMARY:Moms For Liberty El Paso County Monthly Chapter Meeting
PRIORITY:5
CLASS:PUBLIC
BEGIN:VALARM
TRIGGER:-PT30M
ACTION:DISPLAY
DESCRIPTION:Reminder
END:VALARM
END:VEVENT
END:VCALENDAR
