BEGIN:VCALENDAR
PRODID:-//Tendenci - The Open Source AMS for Associations//Tendenci Codebase 12 MIMEDIR//EN
VERSION:2.0
METHOD:PUBLISH
BEGIN:VEVENT
DTSTAMP:20260422T052921Z
ORGANIZER:
DTSTART:20230307T053000Z
DTEND:20230307T070000Z
LOCATION:The Well - BETHEL CAMPUS
TRANSP:OPAQUE
SEQUENCE:0
UID:uid1442@portal.momsforliberty.org
DESCRIPTION:--- This iCal file does *NOT* confirm registration.\r\nEvent details subject to change. ---\r\nhttps://portal.momsforliberty.org/events/1442/\r\n\r\nEvent Title: March Meeting - NEW LOCATION\r\nStart Date / Time: Mar 07, 2023 00:30 AM US/Eastern\r\nLocation: The Well - BETHEL CAMPUS\r\nGoogle\r\nhttp://maps.google.com/maps?q=995+Dodge+Road,Getzville,NY,14068\r\n\r\nForecast\nhttp://www.weather.com/weather/monthly/14068\r\n\r\nWe're on the move!! Our March 2023 meeting will be held in the Northtowns to help reach more members and guests. Please note the updated date and location.\r\nOne of the focuses of our meeting will be reviewing the Legislative Committee's proposed bills to focus on, and formulating action items. We will also have updated from our district leads and other committees. \r\nArrive anytime after 615pm to check-in, purchase merchandise or speak with other members. Guests are welcome, so long as they are respectful and not disruptive.\r\n \r\nNOTE - Our April meeting will be at our normal location in West Seneca. --- This iCal file does *NOT* confirm registration.Event details subject to change. ---\r\n\r\n--- By Tendenci - The Open Source AMS for Associations ---\r\n
X-ALT-DESC;FMTTYPE=text/html:<div>--- This iCal file does *NOT* confirm registration.Event details subject to change. ---</div><h1>Event Title: March Meeting - NEW LOCATION</h1><div>https://portal.momsforliberty.org/events/1442/</div><br /><div>When: Mar 07, 2023 00:30 AM US/Eastern</div><br />The Well - BETHEL CAMPUS<br />995 Dodge Road<br />Getzville, NY 14068<br /><div>http://maps.google.com/maps?q=995+Dodge+Road,Getzville,NY,14068</div><br /><div>Forecast: http://www.weather.com/weather/monthly/14068</div><br /><br /><div><p>We're on the move!! Our March 2023 meeting will be held in the Northtowns to help reach more members and guests. Please note the updated date and location.</p>
<p>One of the focuses of our meeting will be reviewing the Legislative Committee's proposed bills to focus on, and formulating action items. We will also have updated from our district leads and other committees.&nbsp\;</p>
<p>Arrive anytime after 615pm to check-in, purchase merchandise or speak with other members. Guests are welcome, so long as they are respectful and not disruptive.</p>
<p>&nbsp\;</p>
<p>NOTE - Our April meeting will be at our normal location in West Seneca.&nbsp\;</p></div><div>--- This iCal file does *NOT* confirm registration.Event details subject to change. ---</div><div>--- Tendenci&reg\; Software by <a href="https://www.tendenci.com">tendenci.com</a> - The Open Source AMS for Associations ---</div>
SUMMARY:March Meeting - NEW LOCATION
PRIORITY:5
CLASS:PUBLIC
BEGIN:VALARM
TRIGGER:-PT30M
ACTION:DISPLAY
DESCRIPTION:Reminder
END:VALARM
END:VEVENT
END:VCALENDAR
