BEGIN:VCALENDAR
PRODID:-//Tendenci - The Open Source AMS for Associations//Tendenci Codebase 12 MIMEDIR//EN
VERSION:2.0
METHOD:PUBLISH
BEGIN:VEVENT
DTSTAMP:20260423T052020Z
ORGANIZER:
DTSTART:20230316T040000Z
DTEND:20230316T060000Z
LOCATION:Talbot Education Center
TRANSP:OPAQUE
SEQUENCE:0
UID:uid1458@portal.momsforliberty.org
DESCRIPTION:--- This iCal file does *NOT* confirm registration.\r\nEvent details subject to change. ---\r\nhttps://portal.momsforliberty.org/events/1458/\r\n\r\nEvent Title: Talbot County Board of Education Meeting\r\nStart Date / Time: Mar 16, 2023 00:00 AM America/New_York\r\nLocation: Talbot Education Center\r\nGoogle\r\nhttp://maps.google.com/maps?q=12+Magnolia+Street,Easton,MD,21601\r\n\r\nForecast\nhttp://www.weather.com/weather/monthly/21601\r\n\r\nThe monthly Board of Education Meeting. \r\n7-9 p.m.\r\nTabot County Education Center\r\nIf you wish to speak on a topic, contact cgould@talbotschools.org\r\n \r\nWe will share agenda when it is posted--- This iCal file does *NOT* confirm registration.Event details subject to change. ---\r\n\r\n--- By Tendenci - The Open Source AMS for Associations ---\r\n
X-ALT-DESC;FMTTYPE=text/html:<div>--- This iCal file does *NOT* confirm registration.Event details subject to change. ---</div><h1>Event Title: Talbot County Board of Education Meeting</h1><div>https://portal.momsforliberty.org/events/1458/</div><br /><div>When: Mar 16, 2023 00:00 AM America/New_York</div><br />Talbot Education Center<br />12 Magnolia Street<br />Easton, MD 21601<br /><div>http://maps.google.com/maps?q=12+Magnolia+Street,Easton,MD,21601</div><br /><div>Forecast: http://www.weather.com/weather/monthly/21601</div><br /><br /><div><p>The monthly Board of Education Meeting.&nbsp\;</p>
<p>7-9 p.m.</p>
<p>Tabot County Education Center</p>
<p>If you wish to speak on a topic, contact <a href="mailto:cgould@talbotschools.org">cgould@talbotschools.org</a></p>
<p>&nbsp\;</p>
<p>We will share agenda when it is posted</p></div><div>--- This iCal file does *NOT* confirm registration.Event details subject to change. ---</div><div>--- Tendenci&reg\; Software by <a href="https://www.tendenci.com">tendenci.com</a> - The Open Source AMS for Associations ---</div>
SUMMARY:Talbot County Board of Education Meeting
PRIORITY:5
CLASS:PUBLIC
BEGIN:VALARM
TRIGGER:-PT30M
ACTION:DISPLAY
DESCRIPTION:Reminder
END:VALARM
END:VEVENT
END:VCALENDAR
