BEGIN:VCALENDAR
PRODID:-//Tendenci - The Open Source AMS for Associations//Tendenci Codebase 12 MIMEDIR//EN
VERSION:2.0
METHOD:PUBLISH
BEGIN:VEVENT
DTSTAMP:20260421T131256Z
ORGANIZER:Janine Vicalvi
DTSTART:20230223T223000Z
DTEND:20230224T003000Z
LOCATION:Core Life Eatery
TRANSP:OPAQUE
SEQUENCE:0
UID:uid1462@portal.momsforliberty.org
DESCRIPTION:--- This iCal file does *NOT* confirm registration.\r\nEvent details subject to change. ---\r\nhttps://portal.momsforliberty.org/events/1462/\r\n\r\nEvent Title: monthly luncheon\r\nStart Date / Time: Feb 23, 2023 17:30 PM US/Eastern\r\nLocation: Core Life Eatery\r\nGoogle\r\nhttp://maps.google.com/maps?q=833+North+Krocks+Road,+Suite+101,Allentown,18106\r\n\r\nForecast\nhttp://www.weather.com/weather/monthly/18106\r\n\r\n--- This iCal file does *NOT* confirm registration.Event details subject to change. ---\r\n\r\n--- By Tendenci - The Open Source AMS for Associations ---\r\n
X-ALT-DESC;FMTTYPE=text/html:<div>--- This iCal file does *NOT* confirm registration.Event details subject to change. ---</div><h1>Event Title: monthly luncheon</h1><div>https://portal.momsforliberty.org/events/1462/</div><br /><div>When: Feb 23, 2023 17:30 PM US/Eastern</div><br />Core Life Eatery<br />833 North Krocks Road, Suite 101<br /> 18106<br /><div>http://maps.google.com/maps?q=833+North+Krocks+Road,+Suite+101,Allentown,18106</div><br /><div>Forecast: http://www.weather.com/weather/monthly/18106</div><br /><br /><div></div><div>--- This iCal file does *NOT* confirm registration.Event details subject to change. ---</div><div>--- Tendenci&reg\; Software by <a href="https://www.tendenci.com">tendenci.com</a> - The Open Source AMS for Associations ---</div>
SUMMARY:monthly luncheon
PRIORITY:5
CLASS:PUBLIC
BEGIN:VALARM
TRIGGER:-PT30M
ACTION:DISPLAY
DESCRIPTION:Reminder
END:VALARM
END:VEVENT
END:VCALENDAR
