BEGIN:VCALENDAR
PRODID:-//Tendenci - The Open Source AMS for Associations//Tendenci Codebase 12 MIMEDIR//EN
VERSION:2.0
METHOD:PUBLISH
BEGIN:VEVENT
DTSTAMP:20260425T170640Z
ORGANIZER:
DTSTART:20230504T030000Z
DTEND:20230504T060000Z
LOCATION:Alhambra Hall
TRANSP:OPAQUE
SEQUENCE:0
UID:uid1473@portal.momsforliberty.org
DESCRIPTION:--- This iCal file does *NOT* confirm registration.\r\nEvent details subject to change. ---\r\nhttps://portal.momsforliberty.org/events/1473/\r\n\r\nEvent Title: M4L Charleston Fundraiser\r\nStart Date / Time: May 03, 2023 23:00 PM America/New_York\r\nLocation: Alhambra Hall\r\nGoogle\r\nhttp://maps.google.com/maps?q=131+Middle+Street,Mt Pleasant,SC,29464\r\n\r\nForecast\nhttp://www.weather.com/weather/monthly/29464\r\n\r\nM4L Charleston County 2nd Annual Fundraising Event at Alhambra Hall\r\n$50 per person/ $60 at the door\r\nHelp us Continue to Support the Anti-Woke Education Movement. Tickets Include Dinner from Iacofano's, Open Bar, and Great Music!\r\nSponsorships available:\r\n$1000 Platinum Level Sponsor- Includes 8 tickets, designated Sponsor tables, large logo/name recognition on the event website, on-site program and banner, and mention on our facebook group as a sponsor.\r\n$500 Gold Level Sponsor- Includes 4 tickets, designated Sponsor tables, medium logo/name recognition on the event website, on-site program and banner, and mention on our facebook group as a sponsor.\r\n$250 Silver Level Sponsor- Includes 2 tickets, designated Sponsor tables, name recognition on the event website, on-site program and banner, and mention on our facebook group as a sponsor. \r\nSilent Auction Items needed:\r\nIf you have an item or service you would like to donate to our silent auction, please reach out to Shannon Berlinsky at Shannon.bonville@gmail.com or you can reach out to her at 843-597-5353\r\n --- This iCal file does *NOT* confirm registration.Event details subject to change. ---\r\n\r\n--- By Tendenci - The Open Source AMS for Associations ---\r\n
X-ALT-DESC;FMTTYPE=text/html:<div>--- This iCal file does *NOT* confirm registration.Event details subject to change. ---</div><h1>Event Title: M4L Charleston Fundraiser</h1><div>https://portal.momsforliberty.org/events/1473/</div><br /><div>When: May 03, 2023 23:00 PM America/New_York</div><br />Alhambra Hall<br />131 Middle Street<br />Mt Pleasant, SC 29464<br /><div>http://maps.google.com/maps?q=131+Middle+Street,Mt Pleasant,SC,29464</div><br /><div>Forecast: http://www.weather.com/weather/monthly/29464</div><br /><br /><div><h2><span style="color: #000080\;"><strong>M4L Charleston County&nbsp\;2nd Annual Fundraising Event</strong>&nbsp\;at&nbsp\;<strong>Alhambra Hall</strong></span></h2>
<h2>$50 per person/ $60 at the door</h2>
<h2>Help us Continue to Support the Anti-Woke Education Movement. Tickets Include Dinner from Iacofano's, Open Bar, and Great Music!</h2>
<h2>Sponsorships available:</h2>
<h4>$1000 Platinum Level Sponsor- Includes 8 tickets, designated Sponsor tables, large logo/name recognition on the event website, on-site program and banner, and mention on our facebook group as a sponsor.</h4>
<h4>$500 Gold Level Sponsor- Includes 4 tickets, designated Sponsor tables, medium logo/name recognition on the event website, on-site program and banner, and mention on our facebook group as a sponsor.</h4>
<h4>$250 Silver Level Sponsor- Includes 2 tickets, designated Sponsor tables, name recognition on the event website, on-site program and banner, and mention on our facebook group as a sponsor.&nbsp\;</h4>
<h2>Silent Auction Items needed:</h2>
<h4>If you have an item or service you would like to donate to our silent auction, please reach out to Shannon Berlinsky at <a href="mailto:Shannon.bonville@gmail.com">Shannon.bonville@gmail.com</a>&nbsp\;or you can reach out to her at 843-597-5353</h4>
<p>&nbsp\;</p></div><div>--- This iCal file does *NOT* confirm registration.Event details subject to change. ---</div><div>--- Tendenci&reg\; Software by <a href="https://www.tendenci.com">tendenci.com</a> - The Open Source AMS for Associations ---</div>
SUMMARY:M4L Charleston Fundraiser
PRIORITY:5
CLASS:PUBLIC
BEGIN:VALARM
TRIGGER:-PT30M
ACTION:DISPLAY
DESCRIPTION:Reminder
END:VALARM
END:VEVENT
END:VCALENDAR
