BEGIN:VCALENDAR
PRODID:-//Tendenci - The Open Source AMS for Associations//Tendenci Codebase 12 MIMEDIR//EN
VERSION:2.0
METHOD:PUBLISH
BEGIN:VEVENT
DTSTAMP:20260423T022454Z
ORGANIZER:
DTSTART:20230308T053000Z
DTEND:20230308T073000Z
LOCATION:
TRANSP:OPAQUE
SEQUENCE:0
UID:uid1481@portal.momsforliberty.org
DESCRIPTION:--- This iCal file does *NOT* confirm registration.\r\nEvent details subject to change. ---\r\nhttps://portal.momsforliberty.org/events/1481/\r\n\r\nEvent Title: Chapter Meeting\r\nStart Date / Time: Mar 08, 2023 00:30 AM America/New_York\r\nLocation: \r\nGoogle\r\nhttp://maps.google.com/maps?q=5I75+SUNSET+BOULEVARD,+UNIT+G,Lexington,SC,29072\r\n\r\nForecast\nhttp://www.weather.com/weather/monthly/29072\r\n\r\nJoin us for our March meeting. Speakers include TurningPoint USA and Local School Board Member, Katie McCown. We will be working to form committees at this meeting also.--- This iCal file does *NOT* confirm registration.Event details subject to change. ---\r\n\r\n--- By Tendenci - The Open Source AMS for Associations ---\r\n
X-ALT-DESC;FMTTYPE=text/html:<div>--- This iCal file does *NOT* confirm registration.Event details subject to change. ---</div><h1>Event Title: Chapter Meeting</h1><div>https://portal.momsforliberty.org/events/1481/</div><br /><div>When: Mar 08, 2023 00:30 AM America/New_York</div><br /><br />5I75 SUNSET BOULEVARD, UNIT G<br />Lexington, SC 29072<br /><div>http://maps.google.com/maps?q=5I75+SUNSET+BOULEVARD,+UNIT+G,Lexington,SC,29072</div><br /><div>Forecast: http://www.weather.com/weather/monthly/29072</div><br /><br /><div><p>Join us for our March meeting. Speakers include TurningPoint USA and Local School Board Member, Katie McCown. We will be working to form committees at this meeting also.</p></div><div>--- This iCal file does *NOT* confirm registration.Event details subject to change. ---</div><div>--- Tendenci&reg\; Software by <a href="https://www.tendenci.com">tendenci.com</a> - The Open Source AMS for Associations ---</div>
SUMMARY:Chapter Meeting
PRIORITY:5
CLASS:PUBLIC
BEGIN:VALARM
TRIGGER:-PT30M
ACTION:DISPLAY
DESCRIPTION:Reminder
END:VALARM
END:VEVENT
END:VCALENDAR
