BEGIN:VCALENDAR
PRODID:-//Tendenci - The Open Source AMS for Associations//Tendenci Codebase 12 MIMEDIR//EN
VERSION:2.0
METHOD:PUBLISH
BEGIN:VEVENT
DTSTAMP:20260421T085044Z
ORGANIZER:
DTSTART:20230308T070000Z
DTEND:20230308T083000Z
LOCATION:Mulligans
TRANSP:OPAQUE
SEQUENCE:0
UID:uid1484@portal.momsforliberty.org
DESCRIPTION:--- This iCal file does *NOT* confirm registration.\r\nEvent details subject to change. ---\r\nhttps://portal.momsforliberty.org/events/1484/\r\n\r\nEvent Title: Moms for Liberty Stark Chapter Meeting - Guest Speaker John Hagan\r\nStart Date / Time: Mar 08, 2023 01:00 AM US/Central\r\nLocation: Mulligans\r\nGoogle\r\nhttp://maps.google.com/maps?q=4118+Belden+Village+St+NW,Canton,OH,44718\r\n\r\nForecast\nhttp://www.weather.com/weather/monthly/44718\r\n\r\nJohn Hagan, Ohio State School Board Member, will be speaking about the challenges in the education system and give insight as a state school board member. --- This iCal file does *NOT* confirm registration.Event details subject to change. ---\r\n\r\n--- By Tendenci - The Open Source AMS for Associations ---\r\n
X-ALT-DESC;FMTTYPE=text/html:<div>--- This iCal file does *NOT* confirm registration.Event details subject to change. ---</div><h1>Event Title: Moms for Liberty Stark Chapter Meeting - Guest Speaker John Hagan</h1><div>https://portal.momsforliberty.org/events/1484/</div><br /><div>When: Mar 08, 2023 01:00 AM US/Central</div><br />Mulligans<br />4118 Belden Village St NW<br />Canton, OH 44718<br /><div>http://maps.google.com/maps?q=4118+Belden+Village+St+NW,Canton,OH,44718</div><br /><div>Forecast: http://www.weather.com/weather/monthly/44718</div><br /><br /><div><p>John Hagan, Ohio State School Board Member, will be speaking about the challenges in the education system and give insight as a state school board member.&nbsp\;</p></div><div>--- This iCal file does *NOT* confirm registration.Event details subject to change. ---</div><div>--- Tendenci&reg\; Software by <a href="https://www.tendenci.com">tendenci.com</a> - The Open Source AMS for Associations ---</div>
SUMMARY:Moms for Liberty Stark Chapter Meeting - Guest Speaker John Hagan
PRIORITY:5
CLASS:PUBLIC
BEGIN:VALARM
TRIGGER:-PT30M
ACTION:DISPLAY
DESCRIPTION:Reminder
END:VALARM
END:VEVENT
END:VCALENDAR
