BEGIN:VCALENDAR
PRODID:-//Tendenci - The Open Source AMS for Associations//Tendenci Codebase 12 MIMEDIR//EN
VERSION:2.0
METHOD:PUBLISH
BEGIN:VEVENT
DTSTAMP:20260421T024558Z
ORGANIZER:Jessica Tillmann
DTSTART:20230328T033000Z
DTEND:20230328T053000Z
LOCATION:Seminole County Sheriff's Department - Community Room
TRANSP:OPAQUE
SEQUENCE:0
UID:uid1490@portal.momsforliberty.org
DESCRIPTION:--- This iCal file does *NOT* confirm registration.\r\nEvent details subject to change. ---\r\nhttps://portal.momsforliberty.org/events/1490/\r\n\r\nEvent Title: Moms for Liberty - Seminole County, FL March Meeting\r\nStart Date / Time: Mar 27, 2023 23:30 PM US/Eastern\r\nLocation: Seminole County Sheriff's Department - Community Room\r\nGoogle\r\nhttp://maps.google.com/maps?q=120+W+Pineview+St,Altamonte Springs,FL,32714\r\n\r\nForecast\nhttp://www.weather.com/weather/monthly/32714\r\n\r\nThis month our Moms for Liberty Monthly Meeting will be Moved to the 4th Monday of the month. So, March 27th at 6:30 PM to 8:30 PM. (THIS IS A TIME CHANGE) But we will be back in the Altamonte Springs Sheriff&rsquo\;s department. Located at 120 W. Pineview St. Altamonte Springs, FL 32714. At this months meeting we will hold an ESE Committee Meeting. With a discussion on how HB1 will impact ESE students.--- This iCal file does *NOT* confirm registration.Event details subject to change. ---\r\n\r\n--- By Tendenci - The Open Source AMS for Associations ---\r\n
X-ALT-DESC;FMTTYPE=text/html:<div>--- This iCal file does *NOT* confirm registration.Event details subject to change. ---</div><h1>Event Title: Moms for Liberty - Seminole County, FL March Meeting</h1><div>https://portal.momsforliberty.org/events/1490/</div><br /><div>When: Mar 27, 2023 23:30 PM US/Eastern</div><br />Seminole County Sheriff's Department - Community Room<br />120 W Pineview St<br />Altamonte Springs, FL 32714<br /><div>http://maps.google.com/maps?q=120+W+Pineview+St,Altamonte Springs,FL,32714</div><br /><div>Forecast: http://www.weather.com/weather/monthly/32714</div><br /><br /><div><p>This month our Moms for Liberty Monthly Meeting will be Moved to the 4th Monday of the month. So, March 27th at&nbsp\;<span style="color: #ff0000\;"><em>6:30 PM to 8:30 PM</em>.</span> (THIS IS A TIME CHANGE) But we will be back in the Altamonte Springs Sheriff&rsquo\;s department. Located at 120 W. Pineview St. Altamonte Springs, FL 32714. At this months meeting we will hold an ESE Committee Meeting. With a discussion on how HB1 will impact ESE students.</p></div><div>--- This iCal file does *NOT* confirm registration.Event details subject to change. ---</div><div>--- Tendenci&reg\; Software by <a href="https://www.tendenci.com">tendenci.com</a> - The Open Source AMS for Associations ---</div>
SUMMARY:Moms for Liberty - Seminole County, FL March Meeting
PRIORITY:5
CLASS:PUBLIC
BEGIN:VALARM
TRIGGER:-PT30M
ACTION:DISPLAY
DESCRIPTION:Reminder
END:VALARM
END:VEVENT
END:VCALENDAR
