BEGIN:VCALENDAR
PRODID:-//Tendenci - The Open Source AMS for Associations//Tendenci Codebase 12 MIMEDIR//EN
VERSION:2.0
METHOD:PUBLISH
BEGIN:VEVENT
DTSTAMP:20260422T144616Z
ORGANIZER:Jessica Tillmann
DTSTART:20230306T053000Z
DTEND:20230306T073000Z
LOCATION:Wurtz Family Home
TRANSP:OPAQUE
SEQUENCE:0
UID:uid1491@portal.momsforliberty.org
DESCRIPTION:--- This iCal file does *NOT* confirm registration.\r\nEvent details subject to change. ---\r\nhttps://portal.momsforliberty.org/events/1491/\r\n\r\nEvent Title: M4L Seminole, FL Social Hour\r\nStart Date / Time: Mar 06, 2023 00:30 AM US/Eastern\r\nLocation: Wurtz Family Home\r\nGoogle\r\nhttp://maps.google.com/maps?q=327+Oak+Hill+Dr,Altamonte Spirings,FL,32701\r\n\r\nForecast\nhttp://www.weather.com/weather/monthly/32701\r\n\r\nour first Social Hour event, this Sunday March 5th at 6:30 PM. We will be watching KrisAnne Hall&rsquo\;s newest documentary, &ldquo\;Noncompliant 2: The Sheriff&rdquo\;. Will be a fun time and a chance for newer members to get to know everyone. We will be at the Wuertz family home located at 327 Oak Hill Dr. Altamonte Springs 32701. Bring snacks and/or BYOB. Please, no kids because of the content. We will be adding some family friendly events as well.--- This iCal file does *NOT* confirm registration.Event details subject to change. ---\r\n\r\n--- By Tendenci - The Open Source AMS for Associations ---\r\n
X-ALT-DESC;FMTTYPE=text/html:<div>--- This iCal file does *NOT* confirm registration.Event details subject to change. ---</div><h1>Event Title: M4L Seminole, FL Social Hour</h1><div>https://portal.momsforliberty.org/events/1491/</div><br /><div>When: Mar 06, 2023 00:30 AM US/Eastern</div><br />Wurtz Family Home<br />327 Oak Hill Dr<br />Altamonte Spirings, FL 32701<br /><div>http://maps.google.com/maps?q=327+Oak+Hill+Dr,Altamonte Spirings,FL,32701</div><br /><div>Forecast: http://www.weather.com/weather/monthly/32701</div><br /><br /><div><p data-pm-slice="1 1 []">our first Social Hour event, this Sunday March 5th at 6:30 PM. We will be watching KrisAnne Hall&rsquo\;s newest documentary, &ldquo\;Noncompliant 2: The Sheriff&rdquo\;. Will be a fun time and a chance for newer members to get to know everyone. We will be at the Wuertz family home located at 327 Oak Hill Dr. Altamonte Springs 32701. Bring snacks and/or BYOB. Please, no kids because of the content. We will be adding some family friendly events as well.</p></div><div>--- This iCal file does *NOT* confirm registration.Event details subject to change. ---</div><div>--- Tendenci&reg\; Software by <a href="https://www.tendenci.com">tendenci.com</a> - The Open Source AMS for Associations ---</div>
SUMMARY:M4L Seminole, FL Social Hour
PRIORITY:5
CLASS:PUBLIC
BEGIN:VALARM
TRIGGER:-PT30M
ACTION:DISPLAY
DESCRIPTION:Reminder
END:VALARM
END:VEVENT
END:VCALENDAR
