BEGIN:VCALENDAR
PRODID:-//Tendenci - The Open Source AMS for Associations//Tendenci Codebase 12 MIMEDIR//EN
VERSION:2.0
METHOD:PUBLISH
BEGIN:VEVENT
DTSTAMP:20260420T092158Z
ORGANIZER:
DTSTART:20230308T043000Z
DTEND:20230308T063000Z
LOCATION:
TRANSP:OPAQUE
SEQUENCE:0
UID:uid1493@portal.momsforliberty.org
DESCRIPTION:--- This iCal file does *NOT* confirm registration.\r\nEvent details subject to change. ---\r\nhttps://portal.momsforliberty.org/events/1493/\r\n\r\nEvent Title: Seminole County Public Schools - Board Meeting\r\nStart Date / Time: Mar 07, 2023 23:30 PM US/Eastern\r\nLocation: \r\nOur next School Board (SBM) is Tuesday March 7th at 5:30 PM. 400 E Lake Mary Blvd in Sanford. Here is the link for the agenda. https://pcm.scps.k12.fl.us/Uploads/f34b00b0-800c-46f7-b3ca-a6bbce85a5c8/3.7.2023%20Agenda.pdf On the agenda there is a &ldquo\;Settlement&rdquo\; listed. Agenda item U. Science Curriculum is item R.\r\n \r\nWe also have a workshop scheduled the same day, in the afternoon at 1 PM. Link for that agenda. https://pcm.scps.k12.fl.us/Uploads/9c9e1c94-1ba7-47dd-9b82-fd548a448ccf/3-7-2023%20Open%20Discussion%20WS%20Agenda.pdf--- This iCal file does *NOT* confirm registration.Event details subject to change. ---\r\n\r\n--- By Tendenci - The Open Source AMS for Associations ---\r\n
X-ALT-DESC;FMTTYPE=text/html:<div>--- This iCal file does *NOT* confirm registration.Event details subject to change. ---</div><h1>Event Title: Seminole County Public Schools - Board Meeting</h1><div>https://portal.momsforliberty.org/events/1493/</div><br /><div>When: Mar 07, 2023 23:30 PM US/Eastern</div><br /><div><p>Our next School Board (SBM) is Tuesday March 7th at 5:30 PM. 400 E Lake Mary Blvd in Sanford. Here is the&nbsp\;<a href="https://yahoo.us5.list-manage.com/track/click?u=edba8750447fe6413a3b7a101&amp\;id=53fed74983&amp\;e=271798cd07" target="_blank" rel="noreferrer noopener" data-saferedirecturl="https://www.google.com/url?q=https://yahoo.us5.list-manage.com/track/click?u%3Dedba8750447fe6413a3b7a101%26id%3D53fed74983%26e%3D271798cd07&amp\;source=gmail&amp\;ust=1677890399375000&amp\;usg=AOvVaw0bsC0OKTp_-dieUc2TYmyZ">link</a>&nbsp\;for the agenda.&nbsp\;https://pcm.scps.k12.fl.us/Uploads/f34b00b0-800c-46f7-b3ca-a6bbce85a5c8/3.7.2023%20Agenda.pdf On the agenda there is a &ldquo\;Settlement&rdquo\; listed. Agenda item U. Science Curriculum is item R.</p>
<p>&nbsp\;</p>
<p>We also have a workshop scheduled the same day, in the afternoon at 1 PM.&nbsp\;<a href="https://yahoo.us5.list-manage.com/track/click?u=edba8750447fe6413a3b7a101&amp\;id=37e666c298&amp\;e=271798cd07" target="_blank" rel="noreferrer noopener" data-saferedirecturl="https://www.google.com/url?q=https://yahoo.us5.list-manage.com/track/click?u%3Dedba8750447fe6413a3b7a101%26id%3D37e666c298%26e%3D271798cd07&amp\;source=gmail&amp\;ust=1677890399375000&amp\;usg=AOvVaw03flAgYUuQqW9iWRt1GMSp">Link</a>&nbsp\;for that agenda.&nbsp\;https://pcm.scps.k12.fl.us/Uploads/9c9e1c94-1ba7-47dd-9b82-fd548a448ccf/3-7-2023%20Open%20Discussion%20WS%20Agenda.pdf</p></div><div>--- This iCal file does *NOT* confirm registration.Event details subject to change. ---</div><div>--- Tendenci&reg\; Software by <a href="https://www.tendenci.com">tendenci.com</a> - The Open Source AMS for Associations ---</div>
SUMMARY:Seminole County Public Schools - Board Meeting
PRIORITY:5
CLASS:PUBLIC
BEGIN:VALARM
TRIGGER:-PT30M
ACTION:DISPLAY
DESCRIPTION:Reminder
END:VALARM
END:VEVENT
END:VCALENDAR
