BEGIN:VCALENDAR
PRODID:-//Tendenci - The Open Source AMS for Associations//Tendenci Codebase 12 MIMEDIR//EN
VERSION:2.0
METHOD:PUBLISH
BEGIN:VEVENT
DTSTAMP:20260422T021247Z
ORGANIZER:
DTSTART:20230402T030000Z
DTEND:20230402T050000Z
LOCATION:Lincoln Square South Tower Collaboration Center, Suite 253
TRANSP:OPAQUE
SEQUENCE:0
UID:uid1507@portal.momsforliberty.org
DESCRIPTION:--- This iCal file does *NOT* confirm registration.\r\nEvent details subject to change. ---\r\nhttps://portal.momsforliberty.org/events/1507/\r\n\r\nEvent Title: King County Chapter Meeting\r\nStart Date / Time: Apr 01, 2023 20:00 PM America/Vancouver\r\nLocation: Lincoln Square South Tower Collaboration Center, Suite 253\r\nJoin us for the King County Chapter meeting.\r\nTopic: Community members are allowed to participate on committees such as DEI and curriculum adoption. Learn how to get on these school, district and community committees, effective communication and strategies, and how to counter group manipulation tactics designed to steer you toward "consensus."--- This iCal file does *NOT* confirm registration.Event details subject to change. ---\r\n\r\n--- By Tendenci - The Open Source AMS for Associations ---\r\n
X-ALT-DESC;FMTTYPE=text/html:<div>--- This iCal file does *NOT* confirm registration.Event details subject to change. ---</div><h1>Event Title: King County Chapter Meeting</h1><div>https://portal.momsforliberty.org/events/1507/</div><br /><div>When: Apr 01, 2023 20:00 PM America/Vancouver</div><br /><div><p>Join us for the King County Chapter meeting.</p>
<p>Topic:&nbsp\;Community members are allowed to participate on committees such as DEI and curriculum adoption. Learn how to get on these school, district and community committees, effective communication and strategies, and how to counter group manipulation tactics designed to steer you toward "consensus."</p></div><div>--- This iCal file does *NOT* confirm registration.Event details subject to change. ---</div><div>--- Tendenci&reg\; Software by <a href="https://www.tendenci.com">tendenci.com</a> - The Open Source AMS for Associations ---</div>
SUMMARY:King County Chapter Meeting
PRIORITY:5
CLASS:PUBLIC
BEGIN:VALARM
TRIGGER:-PT30M
ACTION:DISPLAY
DESCRIPTION:Reminder
END:VALARM
END:VEVENT
END:VCALENDAR
