BEGIN:VCALENDAR
PRODID:-//Tendenci - The Open Source AMS for Associations//Tendenci Codebase 12 MIMEDIR//EN
VERSION:2.0
METHOD:PUBLISH
BEGIN:VEVENT
DTSTAMP:20260420T223956Z
ORGANIZER:
DTSTART:20230408T023000Z
DTEND:20230408T060000Z
LOCATION:Downtown Lakeland - Munn Park
TRANSP:OPAQUE
SEQUENCE:0
UID:uid1514@portal.momsforliberty.org
DESCRIPTION:--- This iCal file does *NOT* confirm registration.\r\nEvent details subject to change. ---\r\nhttps://portal.momsforliberty.org/events/1514/\r\n\r\nEvent Title: April Polk First Friday Booth\r\nStart Date / Time: Apr 07, 2023 22:30 PM US/Eastern\r\nLocation: Downtown Lakeland - Munn Park\r\nJoin us for First Friday in Downtown Lakeland, our booth will be near Munn Park.--- This iCal file does *NOT* confirm registration.Event details subject to change. ---\r\n\r\n--- By Tendenci - The Open Source AMS for Associations ---\r\n
X-ALT-DESC;FMTTYPE=text/html:<div>--- This iCal file does *NOT* confirm registration.Event details subject to change. ---</div><h1>Event Title: April Polk First Friday Booth</h1><div>https://portal.momsforliberty.org/events/1514/</div><br /><div>When: Apr 07, 2023 22:30 PM US/Eastern</div><br /><div><p style="text-align: center\;">Join us for First Friday in Downtown Lakeland, our booth will be near Munn Park.</p></div><div>--- This iCal file does *NOT* confirm registration.Event details subject to change. ---</div><div>--- Tendenci&reg\; Software by <a href="https://www.tendenci.com">tendenci.com</a> - The Open Source AMS for Associations ---</div>
SUMMARY:April Polk First Friday Booth
PRIORITY:5
CLASS:PUBLIC
BEGIN:VALARM
TRIGGER:-PT30M
ACTION:DISPLAY
DESCRIPTION:Reminder
END:VALARM
END:VEVENT
END:VCALENDAR
