BEGIN:VCALENDAR
PRODID:-//Tendenci - The Open Source AMS for Associations//Tendenci Codebase 12 MIMEDIR//EN
VERSION:2.0
METHOD:PUBLISH
BEGIN:VEVENT
DTSTAMP:20260423T143311Z
ORGANIZER:Moms for Liberty - Duval
DTSTART:20230329T030000Z
DTEND:20230329T050000Z
LOCATION:Noura Cafe
TRANSP:OPAQUE
SEQUENCE:0
UID:uid1523@portal.momsforliberty.org
DESCRIPTION:--- This iCal file does *NOT* confirm registration.\r\nEvent details subject to change. ---\r\nhttps://portal.momsforliberty.org/events/1523/\r\n\r\nEvent Title: Moms for Liberty - Duval Chapter Meeting\r\nStart Date / Time: Mar 28, 2023 23:00 PM America/New_York\r\nLocation: Noura Cafe\r\nGoogle\r\nhttp://maps.google.com/maps?q=1533+University+Blvd+West,Jacksonville,FL,32217\r\n\r\nForecast\nhttp://www.weather.com/weather/monthly/32217\r\n\r\nJoin us for Advocacy Bingo Night!\r\nOrder some of the best middle-eastern cuisine in town at Noura's Cafe at 6pm.\r\nThen, we will provide a brief legislative update and play Advocacy Bingo for prizes!--- This iCal file does *NOT* confirm registration.Event details subject to change. ---\r\n\r\n--- By Tendenci - The Open Source AMS for Associations ---\r\n
X-ALT-DESC;FMTTYPE=text/html:<div>--- This iCal file does *NOT* confirm registration.Event details subject to change. ---</div><h1>Event Title: Moms for Liberty - Duval Chapter Meeting</h1><div>https://portal.momsforliberty.org/events/1523/</div><br /><div>When: Mar 28, 2023 23:00 PM America/New_York</div><br />Noura Cafe<br />1533 University Blvd West<br />Jacksonville, FL 32217<br /><div>http://maps.google.com/maps?q=1533+University+Blvd+West,Jacksonville,FL,32217</div><br /><div>Forecast: http://www.weather.com/weather/monthly/32217</div><br /><br /><div><p>Join us for Advocacy Bingo Night!</p>
<p>Order some of the best middle-eastern cuisine in town at Noura's Cafe at 6pm.</p>
<p>Then, we will provide a brief legislative update and play Advocacy Bingo for prizes!</p></div><div>--- This iCal file does *NOT* confirm registration.Event details subject to change. ---</div><div>--- Tendenci&reg\; Software by <a href="https://www.tendenci.com">tendenci.com</a> - The Open Source AMS for Associations ---</div>
SUMMARY:Moms for Liberty - Duval Chapter Meeting
PRIORITY:5
CLASS:PUBLIC
BEGIN:VALARM
TRIGGER:-PT30M
ACTION:DISPLAY
DESCRIPTION:Reminder
END:VALARM
END:VEVENT
END:VCALENDAR
