BEGIN:VCALENDAR
PRODID:-//Tendenci - The Open Source AMS for Associations//Tendenci Codebase 12 MIMEDIR//EN
VERSION:2.0
METHOD:PUBLISH
BEGIN:VEVENT
DTSTAMP:20260421T225354Z
ORGANIZER:
DTSTART:20230329T040000Z
DTEND:20230329T060000Z
LOCATION:
TRANSP:OPAQUE
SEQUENCE:0
UID:uid1544@portal.momsforliberty.org
DESCRIPTION:--- This iCal file does *NOT* confirm registration.\r\nEvent details subject to change. ---\r\nhttps://portal.momsforliberty.org/events/1544/\r\n\r\nEvent Title: Library 102 - Virtual Zoom Event\r\nStart Date / Time: Mar 28, 2023 23:00 PM US/Central\r\nLocation: \r\nLIBRARY 102 is the virtual follow-on to LIBRARY101. As L101 covered the books in our libraries and how exposure to them neurologically affects children, L102 will follow with tons of practical information for parents wondering what to do about it.\r\nWe have two keynote speakers: Amanda Price, chapter chair of Moms for Liberty Wilson County, TN, and Dan Kleinman, founder of Safe Libraries. Amanda will walk viewers through our new library database, how to look up books in your school library on your own, how students can access pornographic material via their Chromebooks and the GALE library database, and how they are dealing with this issue in Wilson County. Dan Kleinman will present on how deep this issue really goes with the American Library Association, legal precedents, pending legislation, and what your rights as parents are.\r\nFor more information:  https://momsforlibertywc.org/events/library-102/\r\nTopic: LIBRARY 102 Time: Mar 28, 2023 06:00 PM Central Time (US and Canada)\r\nJoin Zoom Meeting https://us02web.zoom.us/j/86552229672?pwd=anBlMHpIWERRL29odzk0TmZPaEFJdz09\r\nMeeting ID: 865 5222 9672 Passcode: 057404 One tap mobile +13017158592,,86552229672#,,,,*057404# US (Washington DC) +13052241968,,86552229672#,,,,*057404# US--- This iCal file does *NOT* confirm registration.Event details subject to change. ---\r\n\r\n--- By Tendenci - The Open Source AMS for Associations ---\r\n
X-ALT-DESC;FMTTYPE=text/html:<div>--- This iCal file does *NOT* confirm registration.Event details subject to change. ---</div><h1>Event Title: Library 102 - Virtual Zoom Event</h1><div>https://portal.momsforliberty.org/events/1544/</div><br /><div>When: Mar 28, 2023 23:00 PM US/Central</div><br /><div><p>LIBRARY 102 is the virtual follow-on to LIBRARY101. As L101 covered the books in our libraries and how exposure to them neurologically affects children, L102 will follow with tons of practical information for parents wondering what to do about it.</p>
<p>We have two keynote speakers: Amanda Price, chapter chair of Moms for Liberty Wilson County, TN, and Dan Kleinman, founder of Safe Libraries. Amanda will walk viewers through our new library database, how to look up books in your school library on your own, how students can access pornographic material via their Chromebooks and the GALE library database, and how they are dealing with this issue in Wilson County. Dan Kleinman will present on how deep this issue really goes with the American Library Association, legal precedents, pending legislation, and what your rights as parents are.</p>
<p>For more information:&nbsp\; <a href="https://momsforlibertywc.org/events/library-102/">https://momsforlibertywc.org/events/library-102/</a></p>
<p>Topic: <strong>LIBRARY 102</strong><br /> Time: <strong>Mar 28, 2023 06:00 PM Central Time (US and Canada)</strong></p>
<p>Join Zoom Meeting<br /> <a href="https://us02web.zoom.us/j/86552229672?pwd=anBlMHpIWERRL29odzk0TmZPaEFJdz09">https://us02web.zoom.us/j/86552229672?pwd=anBlMHpIWERRL29odzk0TmZPaEFJdz09</a></p>
<p>Meeting ID: 865 5222 9672<br /> Passcode: 057404<br /> One tap mobile<br /> +13017158592,,86552229672#,,,,*057404# US (Washington DC)<br /> +13052241968,,86552229672#,,,,*057404# US</p></div><div>--- This iCal file does *NOT* confirm registration.Event details subject to change. ---</div><div>--- Tendenci&reg\; Software by <a href="https://www.tendenci.com">tendenci.com</a> - The Open Source AMS for Associations ---</div>
SUMMARY:Library 102 - Virtual Zoom Event
PRIORITY:5
CLASS:PUBLIC
BEGIN:VALARM
TRIGGER:-PT30M
ACTION:DISPLAY
DESCRIPTION:Reminder
END:VALARM
END:VEVENT
END:VCALENDAR
