BEGIN:VCALENDAR
PRODID:-//Tendenci - The Open Source AMS for Associations//Tendenci Codebase 12 MIMEDIR//EN
VERSION:2.0
METHOD:PUBLISH
BEGIN:VEVENT
DTSTAMP:20260422T154618Z
ORGANIZER:Robin Steenman
DTSTART:20230417T200000Z
DTEND:20230417T220000Z
LOCATION:Caffe' Artisan
TRANSP:OPAQUE
SEQUENCE:0
UID:uid1545@portal.momsforliberty.org
DESCRIPTION:--- This iCal file does *NOT* confirm registration.\r\nEvent details subject to change. ---\r\nhttps://portal.momsforliberty.org/events/1545/\r\n\r\nEvent Title: April Book Club - Meet the Author!\r\nStart Date / Time: Apr 17, 2023 15:00 PM US/Central\r\nLocation: Caffe' Artisan\r\nSpeaker: Dr. James Lindsay\r\nGoogle\r\nhttp://maps.google.com/maps?q=1113+Murfreesboro+Road,Franklin,37064\r\n\r\nForecast\nhttp://www.weather.com/weather/monthly/37064\r\n\r\nEach month, the M4L-WC Book Club will focus on a book that, in our opinion, best covers the current topic of the month.  April&rsquo\;s focus is on the &ldquo\;History of Marxism in Education&rdquo\; and where it stands in our schools today.  And so we will be reading &ldquo\;The Marxification of Education&rdquo\; by Dr. James Lindsay.  \r\nThis Book Club meeting will be even more special, as we will be joined by the author!--- This iCal file does *NOT* confirm registration.Event details subject to change. ---\r\n\r\n--- By Tendenci - The Open Source AMS for Associations ---\r\n
X-ALT-DESC;FMTTYPE=text/html:<div>--- This iCal file does *NOT* confirm registration.Event details subject to change. ---</div><h1>Event Title: April Book Club - Meet the Author!</h1><div>https://portal.momsforliberty.org/events/1545/</div><br /><div>When: Apr 17, 2023 15:00 PM US/Central</div><div>Speaker: Dr. James Lindsay</div><br />Caffe' Artisan<br />1113 Murfreesboro Road<br /> 37064<br /><div>http://maps.google.com/maps?q=1113+Murfreesboro+Road,Franklin,37064</div><br /><div>Forecast: http://www.weather.com/weather/monthly/37064</div><br /><br /><div><p>Each month, the M4L-WC Book Club will focus on a book that, in our opinion, best covers the current topic of the month. &nbsp\;April&rsquo\;s focus is on the &ldquo\;History of Marxism in Education&rdquo\; and where it stands in our schools today. &nbsp\;And so we will be reading &ldquo\;<a href="https://www.amazon.com/Marxification-Education-Freires-Critical-Marxism/dp/B0BP43GQNG/ref=tmm_hrd_swatch_0?_encoding=UTF8&amp\;qid=1678086720&amp\;sr=1-1" target="_blank" rel="noopener">The Marxification of Education</a>&rdquo\; by Dr. James Lindsay. &nbsp\;</p>
<p>This Book Club meeting will be even more special, as we will be joined by the author!</p></div><div>--- This iCal file does *NOT* confirm registration.Event details subject to change. ---</div><div>--- Tendenci&reg\; Software by <a href="https://www.tendenci.com">tendenci.com</a> - The Open Source AMS for Associations ---</div>
SUMMARY:April Book Club - Meet the Author!
PRIORITY:5
CLASS:PUBLIC
BEGIN:VALARM
TRIGGER:-PT30M
ACTION:DISPLAY
DESCRIPTION:Reminder
END:VALARM
END:VEVENT
END:VCALENDAR
