BEGIN:VCALENDAR
PRODID:-//Tendenci - The Open Source AMS for Associations//Tendenci Codebase 12 MIMEDIR//EN
VERSION:2.0
METHOD:PUBLISH
BEGIN:VEVENT
DTSTAMP:20260421T202428Z
ORGANIZER:
DTSTART:20230329T050000Z
DTEND:20230329T070000Z
LOCATION:Liberty Church
TRANSP:OPAQUE
SEQUENCE:0
UID:uid1560@portal.momsforliberty.org
DESCRIPTION:--- This iCal file does *NOT* confirm registration.\r\nEvent details subject to change. ---\r\nhttps://portal.momsforliberty.org/events/1560/\r\n\r\nEvent Title: Chapter Meeting\r\nStart Date / Time: Mar 29, 2023 00:00 AM US/Central\r\nLocation: Liberty Church\r\nGoogle\r\nhttp://maps.google.com/maps?q=450+E+Main+Street,Yukon,OK,73099\r\n\r\nForecast\nhttp://www.weather.com/weather/monthly/73099\r\n\r\nEach month we focus on various topics that are effecting our children and schools. We present information to concerned citizens about what's going on in our schools and how they can protect their children. --- This iCal file does *NOT* confirm registration.Event details subject to change. ---\r\n\r\n--- By Tendenci - The Open Source AMS for Associations ---\r\n
X-ALT-DESC;FMTTYPE=text/html:<div>--- This iCal file does *NOT* confirm registration.Event details subject to change. ---</div><h1>Event Title: Chapter Meeting</h1><div>https://portal.momsforliberty.org/events/1560/</div><br /><div>When: Mar 29, 2023 00:00 AM US/Central</div><br />Liberty Church<br />450 E Main Street<br />Yukon, OK 73099<br /><div>http://maps.google.com/maps?q=450+E+Main+Street,Yukon,OK,73099</div><br /><div>Forecast: http://www.weather.com/weather/monthly/73099</div><br /><br /><div><p>Each month we focus on various topics that are effecting our children and schools. We present information to concerned citizens about what's going on in our schools and how they can protect their children.&nbsp\;</p></div><div>--- This iCal file does *NOT* confirm registration.Event details subject to change. ---</div><div>--- Tendenci&reg\; Software by <a href="https://www.tendenci.com">tendenci.com</a> - The Open Source AMS for Associations ---</div>
SUMMARY:Chapter Meeting
PRIORITY:5
CLASS:PUBLIC
BEGIN:VALARM
TRIGGER:-PT30M
ACTION:DISPLAY
DESCRIPTION:Reminder
END:VALARM
END:VEVENT
END:VCALENDAR
