BEGIN:VCALENDAR
PRODID:-//Tendenci - The Open Source AMS for Associations//Tendenci Codebase 12 MIMEDIR//EN
VERSION:2.0
METHOD:PUBLISH
BEGIN:VEVENT
DTSTAMP:20260422T131010Z
ORGANIZER:
DTSTART:20230405T040000Z
DTEND:20230405T060000Z
LOCATION:Giuseppe's Pizzia
TRANSP:OPAQUE
SEQUENCE:0
UID:uid1565@portal.momsforliberty.org
DESCRIPTION:--- This iCal file does *NOT* confirm registration.\r\nEvent details subject to change. ---\r\nhttps://portal.momsforliberty.org/events/1565/\r\n\r\nEvent Title: Moms for Liberty, Bucks County, PA April Membership Meeting\r\nStart Date / Time: Apr 05, 2023 00:00 AM America/New_York\r\nLocation: Giuseppe's Pizzia\r\nSpeaker: Megan Brock\r\nGoogle\r\nhttp://maps.google.com/maps?q=1580+Street+Road,Warminster,PA,18974\r\n\r\nForecast\nhttp://www.weather.com/weather/monthly/18974\r\n\r\nJoin us for our April membership meeting. We will have a Meet &amp\; Greet with School Board candidates from around the county as well as presentation on the Bucks County Intermediate Unit by Parental Rights Advocate Megan Brock. --- This iCal file does *NOT* confirm registration.Event details subject to change. ---\r\n\r\n--- By Tendenci - The Open Source AMS for Associations ---\r\n
X-ALT-DESC;FMTTYPE=text/html:<div>--- This iCal file does *NOT* confirm registration.Event details subject to change. ---</div><h1>Event Title: Moms for Liberty, Bucks County, PA April Membership Meeting</h1><div>https://portal.momsforliberty.org/events/1565/</div><br /><div>When: Apr 05, 2023 00:00 AM America/New_York</div><div>Speaker: Megan Brock</div><br />Giuseppe's Pizzia<br />1580 Street Road<br />Warminster, PA 18974<br /><div>http://maps.google.com/maps?q=1580+Street+Road,Warminster,PA,18974</div><br /><div>Forecast: http://www.weather.com/weather/monthly/18974</div><br /><br /><div><p>Join us for our April membership meeting. We will have a Meet &amp\; Greet with School Board candidates from around the county as well as presentation on the Bucks County Intermediate Unit by Parental Rights Advocate Megan Brock.&nbsp\;</p></div><div>--- This iCal file does *NOT* confirm registration.Event details subject to change. ---</div><div>--- Tendenci&reg\; Software by <a href="https://www.tendenci.com">tendenci.com</a> - The Open Source AMS for Associations ---</div>
SUMMARY:Moms for Liberty, Bucks County, PA April Membership Meeting
PRIORITY:5
CLASS:PUBLIC
BEGIN:VALARM
TRIGGER:-PT30M
ACTION:DISPLAY
DESCRIPTION:Reminder
END:VALARM
END:VEVENT
END:VCALENDAR
