BEGIN:VCALENDAR
PRODID:-//Tendenci - The Open Source AMS for Associations//Tendenci Codebase 12 MIMEDIR//EN
VERSION:2.0
METHOD:PUBLISH
BEGIN:VEVENT
DTSTAMP:20260420T040358Z
ORGANIZER:
DTSTART:20230414T053000Z
DTEND:20230414T103000Z
LOCATION:D49 Administration Building
TRANSP:OPAQUE
SEQUENCE:0
UID:uid1569@portal.momsforliberty.org
DESCRIPTION:--- This iCal file does *NOT* confirm registration.\r\nEvent details subject to change. ---\r\nhttps://portal.momsforliberty.org/events/1569/\r\n\r\nEvent Title: D49 Board Meeting\r\nStart Date / Time: Apr 13, 2023 23:30 PM US/Mountain\r\nLocation: D49 Administration Building\r\nGoogle\r\nhttp://maps.google.com/maps?q=3850+Pony+Tracks+Dr.,Colorado Springs,CO,80922\r\n\r\nForecast\nhttp://www.weather.com/weather/monthly/80922\r\n\r\n\r\nPlease note as we get into the holiday season board meetings, and work sessions for each district may change dates, and times slightly. We do our best to keep our calendar as up-to-date as possible but it's always best to double-check times and dates on the website of the district.Also please note that severe weather may change the times and locations of board meetings and work sessions as well. All announcements for this will be made on the district website.https://www.d49.org/\r\n--- This iCal file does *NOT* confirm registration.Event details subject to change. ---\r\n\r\n--- By Tendenci - The Open Source AMS for Associations ---\r\n
X-ALT-DESC;FMTTYPE=text/html:<div>--- This iCal file does *NOT* confirm registration.Event details subject to change. ---</div><h1>Event Title: D49 Board Meeting</h1><div>https://portal.momsforliberty.org/events/1569/</div><br /><div>When: Apr 13, 2023 23:30 PM US/Mountain</div><br />D49 Administration Building<br />3850 Pony Tracks Dr.<br />Colorado Springs, CO 80922<br /><div>http://maps.google.com/maps?q=3850+Pony+Tracks+Dr.,Colorado Springs,CO,80922</div><br /><div>Forecast: http://www.weather.com/weather/monthly/80922</div><br /><br /><div><div class="detail-content">
<div class="detail-item"><span class="event-description">Please note as we get into the holiday season board meetings, and work sessions for each district may change dates, and times slightly. We do our best to keep our calendar as up-to-date as possible but it's always best to double-check times and dates on the website of the district.Also please note that severe weather may change the times and locations of board meetings and work sessions as well. All announcements for this will be made on the district website.<br /><a href="https://www.google.com/url?q=https%3A%2F%2Fwww.d49.org%2F&amp\;sa=D&amp\;ust=1680964680000000&amp\;usg=AOvVaw2vOx945Ypuwtyue87g4gg0" target="_blank" rel="noopener">https:/<wbr />/www.d49.org/</a></span></div>
</div></div><div>--- This iCal file does *NOT* confirm registration.Event details subject to change. ---</div><div>--- Tendenci&reg\; Software by <a href="https://www.tendenci.com">tendenci.com</a> - The Open Source AMS for Associations ---</div>
SUMMARY:D49 Board Meeting
PRIORITY:5
CLASS:PUBLIC
BEGIN:VALARM
TRIGGER:-PT30M
ACTION:DISPLAY
DESCRIPTION:Reminder
END:VALARM
END:VEVENT
END:VCALENDAR
