BEGIN:VCALENDAR
PRODID:-//Tendenci - The Open Source AMS for Associations//Tendenci Codebase 12 MIMEDIR//EN
VERSION:2.0
METHOD:PUBLISH
BEGIN:VEVENT
DTSTAMP:20260422T200524Z
ORGANIZER:Mariya Calkins
DTSTART:20230426T030000Z
DTEND:20230426T053000Z
LOCATION:Santa Rosa County Chamber of Commerce
TRANSP:OPAQUE
SEQUENCE:0
UID:uid1572@portal.momsforliberty.org
DESCRIPTION:--- This iCal file does *NOT* confirm registration.\r\nEvent details subject to change. ---\r\nhttps://portal.momsforliberty.org/events/1572/\r\n\r\nEvent Title: Moms For Liberty Santa Rosa County\r\nStart Date / Time: Apr 25, 2023 22:00 PM US/Central\r\nLocation: Santa Rosa County Chamber of Commerce\r\nGoogle\r\nhttp://maps.google.com/maps?q=4315+Avalon+Blvd,Milton,FL,32583\r\n\r\nForecast\nhttp://www.weather.com/weather/monthly/32583\r\n\r\n--- This iCal file does *NOT* confirm registration.Event details subject to change. ---\r\n\r\n--- By Tendenci - The Open Source AMS for Associations ---\r\n
X-ALT-DESC;FMTTYPE=text/html:<div>--- This iCal file does *NOT* confirm registration.Event details subject to change. ---</div><h1>Event Title: Moms For Liberty Santa Rosa County</h1><div>https://portal.momsforliberty.org/events/1572/</div><br /><div>When: Apr 25, 2023 22:00 PM US/Central</div><br />Santa Rosa County Chamber of Commerce<br />4315 Avalon Blvd<br />Milton, FL 32583<br /><div>http://maps.google.com/maps?q=4315+Avalon+Blvd,Milton,FL,32583</div><br /><div>Forecast: http://www.weather.com/weather/monthly/32583</div><br /><br /><div></div><div>--- This iCal file does *NOT* confirm registration.Event details subject to change. ---</div><div>--- Tendenci&reg\; Software by <a href="https://www.tendenci.com">tendenci.com</a> - The Open Source AMS for Associations ---</div>
SUMMARY:Moms For Liberty Santa Rosa County
PRIORITY:5
CLASS:PUBLIC
BEGIN:VALARM
TRIGGER:-PT30M
ACTION:DISPLAY
DESCRIPTION:Reminder
END:VALARM
END:VEVENT
END:VCALENDAR
