BEGIN:VCALENDAR
PRODID:-//Tendenci - The Open Source AMS for Associations//Tendenci Codebase 12 MIMEDIR//EN
VERSION:2.0
METHOD:PUBLISH
BEGIN:VEVENT
DTSTAMP:20260422T200522Z
ORGANIZER:Robin Steenman
DTSTART:20230411T040000Z
DTEND:20230411T060000Z
LOCATION:
TRANSP:OPAQUE
SEQUENCE:0
UID:uid1578@portal.momsforliberty.org
DESCRIPTION:--- This iCal file does *NOT* confirm registration.\r\nEvent details subject to change. ---\r\nhttps://portal.momsforliberty.org/events/1578/\r\n\r\nEvent Title: Library 102\r\nStart Date / Time: Apr 10, 2023 23:00 PM US/Central\r\nLocation: \r\nLIBRARY 102 is the virtual follow-on to LIBRARY101. As L101 covered the books in our libraries and how exposure to them neurologically affects children, L102 will follow with tons of practical information for parents wondering what to do about it. We have two keynote speakers: Amanda Price, chapter chair of Moms for Liberty Wilson County, TN, and Dan Kleinman, founder of Safe Libraries. Amanda will walk viewers through our new library database, how to look up books in your school library on your own, how students can access pornographic material via their Chromebooks and the GALE library database, and how they are dealing with this issue in Wilson County. Dan Kleinman will present how deep this issue really goes with the American Library Association, legal precedents, pending legislation, and what your rights as parents are.--- This iCal file does *NOT* confirm registration.Event details subject to change. ---\r\n\r\n--- By Tendenci - The Open Source AMS for Associations ---\r\n
X-ALT-DESC;FMTTYPE=text/html:<div>--- This iCal file does *NOT* confirm registration.Event details subject to change. ---</div><h1>Event Title: Library 102</h1><div>https://portal.momsforliberty.org/events/1578/</div><br /><div>When: Apr 10, 2023 23:00 PM US/Central</div><br /><div><p>LIBRARY 102 is the virtual follow-on to LIBRARY101. As L101 covered the books in our libraries and how exposure to them neurologically affects children, L102 will follow with tons of practical information for parents wondering what to do about it. We have two keynote speakers: Amanda Price, chapter chair of Moms for Liberty Wilson County, TN, and Dan Kleinman, founder of Safe Libraries. Amanda will walk viewers through our new library database, how to look up books in your school library on your own, how students can access pornographic material via their Chromebooks and the GALE library database, and how they are dealing with this issue in Wilson County. Dan Kleinman will present how deep this issue really goes with the American Library Association, legal precedents, pending legislation, and what your rights as parents are.</p></div><div>--- This iCal file does *NOT* confirm registration.Event details subject to change. ---</div><div>--- Tendenci&reg\; Software by <a href="https://www.tendenci.com">tendenci.com</a> - The Open Source AMS for Associations ---</div>
SUMMARY:Library 102
PRIORITY:5
CLASS:PUBLIC
BEGIN:VALARM
TRIGGER:-PT30M
ACTION:DISPLAY
DESCRIPTION:Reminder
END:VALARM
END:VEVENT
END:VCALENDAR
