BEGIN:VCALENDAR
PRODID:-//Tendenci - The Open Source AMS for Associations//Tendenci Codebase 12 MIMEDIR//EN
VERSION:2.0
METHOD:PUBLISH
BEGIN:VEVENT
DTSTAMP:20260420T011607Z
ORGANIZER:
DTSTART:20230413T120000Z
DTEND:20230424T115959Z
LOCATION:Puyallup Fair Grounds
TRANSP:OPAQUE
SEQUENCE:0
UID:uid1595@portal.momsforliberty.org
DESCRIPTION:--- This iCal file does *NOT* confirm registration.\r\nEvent details subject to change. ---\r\nhttps://portal.momsforliberty.org/events/1595/\r\n\r\nEvent Title: Come See Us At the Fair\r\nStart Date / Time: Apr 13, 2023 05:00 AM America/Los_Angeles\r\nLocation: Puyallup Fair Grounds\r\nMoms for Liberty - Pierce County has invited us to share their booth at the Washington State Spring Fair in Puyallup, April 13-16, 20-23. We will be at booth #7733 in the Showplex. Stop by and say hi!--- This iCal file does *NOT* confirm registration.Event details subject to change. ---\r\n\r\n--- By Tendenci - The Open Source AMS for Associations ---\r\n
X-ALT-DESC;FMTTYPE=text/html:<div>--- This iCal file does *NOT* confirm registration.Event details subject to change. ---</div><h1>Event Title: Come See Us At the Fair</h1><div>https://portal.momsforliberty.org/events/1595/</div><br /><div>When: Apr 13, 2023 05:00 AM America/Los_Angeles</div><br /><div><p>Moms for Liberty - Pierce County has invited us to share their booth at the Washington State Spring Fair in Puyallup, April 13-16, 20-23. We will be at booth #7733 in the Showplex. Stop by and say hi!</p></div><div>--- This iCal file does *NOT* confirm registration.Event details subject to change. ---</div><div>--- Tendenci&reg\; Software by <a href="https://www.tendenci.com">tendenci.com</a> - The Open Source AMS for Associations ---</div>
SUMMARY:Come See Us At the Fair
PRIORITY:5
CLASS:PUBLIC
BEGIN:VALARM
TRIGGER:-PT30M
ACTION:DISPLAY
DESCRIPTION:Reminder
END:VALARM
END:VEVENT
END:VCALENDAR
