BEGIN:VCALENDAR
PRODID:-//Tendenci - The Open Source AMS for Associations//Tendenci Codebase 12 MIMEDIR//EN
VERSION:2.0
METHOD:PUBLISH
BEGIN:VEVENT
DTSTAMP:20260423T084639Z
ORGANIZER:
DTSTART:20211215T043000Z
DTEND:20211215T063000Z
LOCATION:Brevard County School Board Building
TRANSP:OPAQUE
SEQUENCE:0
UID:uid163@portal.momsforliberty.org
DESCRIPTION:--- This iCal file does *NOT* confirm registration.\r\nEvent details subject to change. ---\r\nhttps://portal.momsforliberty.org/events/163/\r\n\r\nEvent Title: Brevard County School Board - Regular Meeting\r\nStart Date / Time: Dec 14, 2021 23:30 PM America/New_York\r\nLocation: Brevard County School Board Building\r\nGoogle\r\nhttp://maps.google.com/maps?q=2700+Judge+Fran+Jamieson+Way,Melbourne,FL,32940\r\n\r\nForecast\nhttp://www.weather.com/weather/monthly/32940\r\n\r\n--- This iCal file does *NOT* confirm registration.Event details subject to change. ---\r\n\r\n--- By Tendenci - The Open Source AMS for Associations ---\r\n
X-ALT-DESC;FMTTYPE=text/html:<div>--- This iCal file does *NOT* confirm registration.Event details subject to change. ---</div><h1>Event Title: Brevard County School Board - Regular Meeting</h1><div>https://portal.momsforliberty.org/events/163/</div><br /><div>When: Dec 14, 2021 23:30 PM America/New_York</div><br />Brevard County School Board Building<br />2700 Judge Fran Jamieson Way<br />Melbourne, FL 32940<br /><div>http://maps.google.com/maps?q=2700+Judge+Fran+Jamieson+Way,Melbourne,FL,32940</div><br /><div>Forecast: http://www.weather.com/weather/monthly/32940</div><br /><br /><div></div><div>--- This iCal file does *NOT* confirm registration.Event details subject to change. ---</div><div>--- Tendenci&reg\; Software by <a href="https://www.tendenci.com">tendenci.com</a> - The Open Source AMS for Associations ---</div>
SUMMARY:Brevard County School Board - Regular Meeting
PRIORITY:5
CLASS:PUBLIC
BEGIN:VALARM
TRIGGER:-PT30M
ACTION:DISPLAY
DESCRIPTION:Reminder
END:VALARM
END:VEVENT
END:VCALENDAR
