BEGIN:VCALENDAR
PRODID:-//Tendenci - The Open Source AMS for Associations//Tendenci Codebase 12 MIMEDIR//EN
VERSION:2.0
METHOD:PUBLISH
BEGIN:VEVENT
DTSTAMP:20260423T042458Z
ORGANIZER:
DTSTART:20230509T230000Z
DTEND:20230510T003000Z
LOCATION:La Casita Mexican Grill (4296 N Nevada Ave Colorado Springs, Co 80907)
TRANSP:OPAQUE
SEQUENCE:0
UID:uid1638@portal.momsforliberty.org
DESCRIPTION:--- This iCal file does *NOT* confirm registration.\r\nEvent details subject to change. ---\r\nhttps://portal.momsforliberty.org/events/1638/\r\n\r\nEvent Title: Moms for Liberty El Paso County Liberty Lunch\r\nStart Date / Time: May 09, 2023 17:00 PM US/Mountain\r\nLocation: La Casita Mexican Grill (4296 N Nevada Ave Colorado Springs, Co 80907)\r\nGoogle\r\nhttp://maps.google.com/maps?q=4296+N+Nevada+Ave,Colorado Springs,CO,80907\r\n\r\nForecast\nhttp://www.weather.com/weather/monthly/80907\r\n\r\nMoms for Liberty- El Paso County\r\nLiberty Lunch\r\nTuesday May 9th, 2023\r\nfrom 12 PM to 1:30 PM\r\nat La Casita Mexican Grill\r\n(4296 N Nevada Ave Colorado Springs, Co 80907)\r\n \r\n \r\nCome join members of the Moms for Liberty Board for a lunchtime chat and see what's going on in El Paso County and across the state.\r\n \r\n \r\nVisit: https://www.momsforliberty.org/chapters/el-paso-county-co/ for more information.\r\nHave questions or concerns?\r\nEmail us at reporting.m4lepc@gmail.com--- This iCal file does *NOT* confirm registration.Event details subject to change. ---\r\n\r\n--- By Tendenci - The Open Source AMS for Associations ---\r\n
X-ALT-DESC;FMTTYPE=text/html:<div>--- This iCal file does *NOT* confirm registration.Event details subject to change. ---</div><h1>Event Title: Moms for Liberty El Paso County Liberty Lunch</h1><div>https://portal.momsforliberty.org/events/1638/</div><br /><div>When: May 09, 2023 17:00 PM US/Mountain</div><br />La Casita Mexican Grill (4296 N Nevada Ave Colorado Springs, Co 80907)<br />4296 N Nevada Ave<br />Colorado Springs, CO 80907<br /><div>http://maps.google.com/maps?q=4296+N+Nevada+Ave,Colorado Springs,CO,80907</div><br /><div>Forecast: http://www.weather.com/weather/monthly/80907</div><br /><br /><div><p class="_04xlpA direction-ltr align-center para-style-body"><span class="S1PPyQ">M<span class="ql-cursor"></span>oms </span><span class="S1PPyQ">for</span><span class="S1PPyQ"> Liberty- El Paso County</span></p>
<p class="_04xlpA direction-ltr align-center para-style-body"><span class="S1PPyQ">Liberty Lunch</span></p>
<p class="_04xlpA direction-ltr align-center para-style-body"><span class="S1PPyQ">Tuesday May 9th, 2023</span></p>
<p class="_04xlpA direction-ltr align-center para-style-body"><span class="S1PPyQ">from 12 PM to 1:30 PM</span></p>
<p class="_04xlpA direction-ltr align-center para-style-body"><span class="S1PPyQ">at La Casita Mexican Grill</span></p>
<p class="_04xlpA direction-ltr align-center para-style-body"><span class="S1PPyQ">(4296 N Nevada Ave Colorado Springs, Co 80907)</span></p>
<p class="_04xlpA direction-ltr align-center para-style-body">&nbsp\;</p>
<p class="_04xlpA direction-ltr align-center para-style-body">&nbsp\;</p>
<p class="_04xlpA direction-ltr align-center para-style-body"><span class="S1PPyQ">Come join members of the Moms for Liberty Board for a lunchtime chat and see what's going on in El Paso County and across the state.</span></p>
<p class="_04xlpA direction-ltr align-center para-style-body">&nbsp\;</p>
<p class="_04xlpA direction-ltr align-center para-style-body">&nbsp\;</p>
<p class="_04xlpA direction-ltr align-center para-style-body"><span class="S1PPyQ">Visit:</span> <span class="S1PPyQ">https://www.momsforliberty.org/chapters/el-paso-county-co/</span> <span class="S1PPyQ">for </span><span class="S1PPyQ">more information.</span></p>
<p class="_04xlpA direction-ltr align-center para-style-body"><span class="S1PPyQ">Have questions or concerns?</span></p>
<p class="_04xlpA direction-ltr align-center para-style-body"><span class="S1PPyQ">Email us at</span> <span class="S1PPyQ">reporting.m4lepc@gmail.com</span></p></div><div>--- This iCal file does *NOT* confirm registration.Event details subject to change. ---</div><div>--- Tendenci&reg\; Software by <a href="https://www.tendenci.com">tendenci.com</a> - The Open Source AMS for Associations ---</div>
SUMMARY:Moms for Liberty El Paso County Liberty Lunch
PRIORITY:5
CLASS:PUBLIC
BEGIN:VALARM
TRIGGER:-PT30M
ACTION:DISPLAY
DESCRIPTION:Reminder
END:VALARM
END:VEVENT
END:VCALENDAR
