BEGIN:VCALENDAR
PRODID:-//Tendenci - The Open Source AMS for Associations//Tendenci Codebase 12 MIMEDIR//EN
VERSION:2.0
METHOD:PUBLISH
BEGIN:VEVENT
DTSTAMP:20260421T074947Z
ORGANIZER:
DTSTART:20230523T033000Z
DTEND:20230523T053000Z
LOCATION:
TRANSP:OPAQUE
SEQUENCE:0
UID:uid1692@portal.momsforliberty.org
DESCRIPTION:--- This iCal file does *NOT* confirm registration.\r\nEvent details subject to change. ---\r\nhttps://portal.momsforliberty.org/events/1692/\r\n\r\nEvent Title: M4L HOWARD MD MAY CHAPTER MEETING\r\nStart Date / Time: May 22, 2023 23:30 PM US/Eastern\r\nLocation: \r\nSpeaker: Tom Neumark\r\nPlease join us for our May Chapter Meeting, you don't want to miss our special guest speaker Tom Neumark!\r\nPlease email Lisa at moms4libertyhowardmd@gmail.com for details!--- This iCal file does *NOT* confirm registration.Event details subject to change. ---\r\n\r\n--- By Tendenci - The Open Source AMS for Associations ---\r\n
X-ALT-DESC;FMTTYPE=text/html:<div>--- This iCal file does *NOT* confirm registration.Event details subject to change. ---</div><h1>Event Title: M4L HOWARD MD MAY CHAPTER MEETING</h1><div>https://portal.momsforliberty.org/events/1692/</div><br /><div>When: May 22, 2023 23:30 PM US/Eastern</div><div>Speaker: Tom Neumark</div><br /><div><h4 class="x1heor9g x1qlqyl8 x1pd3egz x1a2a7pz xod5an3"><span class="x193iq5w xeuugli x13faqbe x1vvkbs xlh3980 xvmahel x1n0sxbx x1603h9y x1u7k74 xo1l8bm xzsf02u"><strong>Please join us for our May Chapter Meeting, you don't want to miss our special guest speaker Tom Neumark!</strong></span></h4>
<div class="x1e56ztr"><strong>Please email Lisa at <a href="mailto:moms4libertyhowardmd@gmail.com">moms4libertyhowardmd@gmail.com</a>&nbsp\;for details!</strong></div></div><div>--- This iCal file does *NOT* confirm registration.Event details subject to change. ---</div><div>--- Tendenci&reg\; Software by <a href="https://www.tendenci.com">tendenci.com</a> - The Open Source AMS for Associations ---</div>
SUMMARY:M4L HOWARD MD MAY CHAPTER MEETING
PRIORITY:5
CLASS:PUBLIC
BEGIN:VALARM
TRIGGER:-PT30M
ACTION:DISPLAY
DESCRIPTION:Reminder
END:VALARM
END:VEVENT
END:VCALENDAR
