BEGIN:VCALENDAR
PRODID:-//Tendenci - The Open Source AMS for Associations//Tendenci Codebase 12 MIMEDIR//EN
VERSION:2.0
METHOD:PUBLISH
BEGIN:VEVENT
DTSTAMP:20260426T005600Z
ORGANIZER:
DTSTART:20230620T043000Z
DTEND:20230620T063000Z
LOCATION:
TRANSP:OPAQUE
SEQUENCE:0
UID:uid1710@portal.momsforliberty.org
DESCRIPTION:--- This iCal file does *NOT* confirm registration.\r\nEvent details subject to change. ---\r\nhttps://portal.momsforliberty.org/events/1710/\r\n\r\nEvent Title: Wilson Chapter Meeting\r\nStart Date / Time: Jun 19, 2023 23:30 PM US/Central\r\nLocation: \r\n--- This iCal file does *NOT* confirm registration.Event details subject to change. ---\r\n\r\n--- By Tendenci - The Open Source AMS for Associations ---\r\n
X-ALT-DESC;FMTTYPE=text/html:<div>--- This iCal file does *NOT* confirm registration.Event details subject to change. ---</div><h1>Event Title: Wilson Chapter Meeting</h1><div>https://portal.momsforliberty.org/events/1710/</div><br /><div>When: Jun 19, 2023 23:30 PM US/Central</div><br /><div></div><div>--- This iCal file does *NOT* confirm registration.Event details subject to change. ---</div><div>--- Tendenci&reg\; Software by <a href="https://www.tendenci.com">tendenci.com</a> - The Open Source AMS for Associations ---</div>
SUMMARY:Wilson Chapter Meeting
PRIORITY:5
CLASS:PUBLIC
BEGIN:VALARM
TRIGGER:-PT30M
ACTION:DISPLAY
DESCRIPTION:Reminder
END:VALARM
END:VEVENT
END:VCALENDAR
