BEGIN:VCALENDAR
PRODID:-//Tendenci - The Open Source AMS for Associations//Tendenci Codebase 12 MIMEDIR//EN
VERSION:2.0
METHOD:PUBLISH
BEGIN:VEVENT
DTSTAMP:20260422T182140Z
ORGANIZER:
DTSTART:20230621T050000Z
DTEND:20230621T070000Z
LOCATION:
TRANSP:OPAQUE
SEQUENCE:0
UID:uid1746@portal.momsforliberty.org
DESCRIPTION:--- This iCal file does *NOT* confirm registration.\r\nEvent details subject to change. ---\r\nhttps://portal.momsforliberty.org/events/1746/\r\n\r\nEvent Title: Moms for Liberty- El Paso County  Chapter Meeting\r\nStart Date / Time: Jun 20, 2023 23:00 PM US/Mountain\r\nLocation: \r\nSpeaker: D20 Candidates Derrick Wilburn, and Amy Shandy, D11 Board Member  Jason Jorgenson, and FAIR Rep. Jos\r\nMoms for Liberty- El Paso County\r\nChapter Meeting\r\nTuesday, June 20 at 6 PM\r\nat Valley Hi Golf Club\r\n(610 S Chelton Rd. Co. Springs, Co 80910)\r\n \r\nSpecial Guest~\r\nD20 Candidates Derrick Wilburn, and Amy Shandy,\r\nD11 Board Member Jason Jorgenson,\r\nand FAIR Rep. Joseph Boyle\r\n \r\nThe meeting is only open to members and\r\nlike-minded individuals.\r\nVisit: https://www.momsforliberty.org/chapters/el-paso-county-co/ for more information.\r\nHave questions or concerns?\r\nEmail us at reporting.m4lepc@gmail.com\r\nTonight, we will be verifying members and nonmembers with phone numbers and ID&rsquo\;s. If you&rsquo\;re conservative and a like-minded person and/or we have seen you before, there&rsquo\;s nothing to worry about. Otherwise, the general public is not invited and will be turned away at the door.\r\n \r\n --- This iCal file does *NOT* confirm registration.Event details subject to change. ---\r\n\r\n--- By Tendenci - The Open Source AMS for Associations ---\r\n
X-ALT-DESC;FMTTYPE=text/html:<div>--- This iCal file does *NOT* confirm registration.Event details subject to change. ---</div><h1>Event Title: Moms for Liberty- El Paso County  Chapter Meeting</h1><div>https://portal.momsforliberty.org/events/1746/</div><br /><div>When: Jun 20, 2023 23:00 PM US/Mountain</div><div>Speaker: D20 Candidates Derrick Wilburn, and Amy Shandy, D11 Board Member  Jason Jorgenson, and FAIR Rep. Jos</div><br /><div><p class="_04xlpA direction-ltr align-center para-style-body"><span class="WdYUQQ text-decoration-none text-strikethrough-none">Moms </span><span class="WdYUQQ text-decoration-none text-strikethrough-none">for</span><span class="WdYUQQ text-decoration-none text-strikethrough-none"> Liberty- El Paso County</span></p>
<p class="_04xlpA direction-ltr align-center para-style-body"><span class="WdYUQQ text-decoration-none text-strikethrough-none">Chapter Meeting</span></p>
<p class="_04xlpA direction-ltr align-center para-style-body"><span class="WdYUQQ text-decoration-none text-strikethrough-none">Tuesday, June 20 at 6 PM</span></p>
<p class="_04xlpA direction-ltr align-center para-style-body"><span class="WdYUQQ text-decoration-none text-strikethrough-none">at Valley Hi Golf Club</span></p>
<p class="_04xlpA direction-ltr align-center para-style-body"><span class="WdYUQQ text-decoration-none text-strikethrough-none">(610 S Chelton Rd. Co. Springs, Co 80910)</span></p>
<p class="_04xlpA direction-ltr align-center para-style-body">&nbsp\;</p>
<p class="_04xlpA direction-ltr align-center para-style-body"><span class="WdYUQQ text-decoration-none text-strikethrough-none">Special Guest~</span></p>
<p class="_04xlpA direction-ltr align-center para-style-body"><span class="WdYUQQ text-decoration-none text-strikethrough-none">D20 Candidates Derrick Wilburn, and Amy Shandy,</span></p>
<p class="_04xlpA direction-ltr align-center para-style-body"><span class="WdYUQQ text-decoration-none text-strikethrough-none">D11 Board Member</span> <span class="WdYUQQ text-decoration-none text-strikethrough-none">Jason Jorgenson,</span></p>
<p class="_04xlpA direction-ltr align-center para-style-body"><span class="WdYUQQ text-decoration-none text-strikethrough-none">and FAIR Rep. Joseph Boyle</span></p>
<p class="_04xlpA direction-ltr align-center para-style-body">&nbsp\;</p>
<p class="_04xlpA direction-ltr align-center para-style-body"><span class="WdYUQQ text-decoration-none text-strikethrough-none">The meeting is only open to members and</span></p>
<p class="_04xlpA direction-ltr align-center para-style-body"><span class="WdYUQQ text-decoration-none text-strikethrough-none">like-minded individuals.</span></p>
<p class="_04xlpA direction-ltr align-center para-style-body"><span class="WdYUQQ text-decoration-none text-strikethrough-none">Visit:</span> <span class="WdYUQQ text-decoration-none text-strikethrough-none">https://www.momsforliberty.org/chapters/el-paso-county-co/</span> <span class="WdYUQQ text-decoration-none text-strikethrough-none">for </span><span class="WdYUQQ text-decoration-none text-strikethrough-none">more information.</span></p>
<p class="_04xlpA direction-ltr align-center para-style-body"><span class="WdYUQQ text-decoration-none text-strikethrough-none">Have questions or concerns?</span></p>
<p class="_04xlpA direction-ltr align-center para-style-body"><span class="WdYUQQ text-decoration-none text-strikethrough-none">Email us at</span> <span class="WdYUQQ text-decoration-none text-strikethrough-none"><a href="mailto:reporting.m4lepc@gmail.com">reporting.m4lepc@gmail.com</a></span></p>
<p class="_04xlpA direction-ltr align-center para-style-body"><em><span style="color: #ff0000\;"><strong><span class="WdYUQQ text-decoration-none text-strikethrough-none">Tonight, we will be verifying members and nonmembers with phone numbers and ID&rsquo\;s. If you&rsquo\;re conservative and a like-minded person and/or we have seen you before, there&rsquo\;s nothing to worry about. Otherwise, the general public is not invited and will be turned away at the door.</span></strong></span></em></p>
<p class="_04xlpA direction-ltr align-center para-style-body">&nbsp\;</p>
<p class="_04xlpA direction-ltr align-center para-style-body">&nbsp\;</p></div><div>--- This iCal file does *NOT* confirm registration.Event details subject to change. ---</div><div>--- Tendenci&reg\; Software by <a href="https://www.tendenci.com">tendenci.com</a> - The Open Source AMS for Associations ---</div>
SUMMARY:Moms for Liberty- El Paso County  Chapter Meeting
PRIORITY:5
CLASS:PUBLIC
BEGIN:VALARM
TRIGGER:-PT30M
ACTION:DISPLAY
DESCRIPTION:Reminder
END:VALARM
END:VEVENT
END:VCALENDAR
